BEGIN:VCALENDAR
VERSION:2.0
PRODID:-//ChamberMaster//Event Calendar 2.0//EN
METHOD:PUBLISH
X-PUBLISHED-TTL:P3D
REFRESH-INTERVAL:P3D
CALSCALE:GREGORIAN
BEGIN:VEVENT
DTSTART:20251003T160000Z
DTEND:20251005T210000Z
X-MICROSOFT-CDO-ALLDAYEVENT:FALSE
SUMMARY:24th Connecticut Militia Regiment at Hillside Farms
DESCRIPTION:October 3\, 4\, & 5: The 24th Connecticut Militia Regiment is a living history organization that demonstrates fascinating ways of life during the Revolutionary War period of American history. Witness accurate portrayals of soldiers and common people of the Wyoming Valley. Learn about carpentry\, medicine\, cooking\, tailoring\, and much more. This event is free. Donations deeply appreciated.
X-ALT-DESC;FMTTYPE=text/html:October 3\, 4\, &amp\; 5: The 24th Connecticut Militia Regiment is a living history organization that demonstrates fascinating ways of life during the Revolutionary War period of American history. Witness accurate portrayals of soldiers and common people of the Wyoming Valley. Learn about carpentry\, medicine\, cooking\, tailoring\, and much more. This event is free. Donations deeply appreciated.
LOCATION:Hillside Farms Victorian Park
UID:e.3296.1149
SEQUENCE:3
DTSTAMP:20260423T021930Z
URL:https://business.backmountainchamber.org/events/details/24th-connecticut-militia-regiment-at-hillside-farms-1149
END:VEVENT

END:VCALENDAR
