BEGIN:VCALENDAR
VERSION:2.0
PRODID:-//ChamberMaster//Event Calendar 2.0//EN
METHOD:PUBLISH
X-PUBLISHED-TTL:P3D
REFRESH-INTERVAL:P3D
CALSCALE:GREGORIAN
BEGIN:VEVENT
DTSTART;VALUE=DATE:20220919
DTEND;VALUE=DATE:20220920
TRANSP:TRANSPARENT
X-MICROSOFT-CDO-ALLDAYEVENT:TRUE
SUMMARY:40th Annual Dallas Rotary Fall Golf Classic - Steak & Clambake
DESCRIPTION:40th Annual Dallas Rotary Fall Golf Classic - Steak & Clambake\n\nCaptain & Crew Format
X-ALT-DESC;FMTTYPE=text/html:40th Annual Dallas Rotary Fall Golf Classic - Steak &amp\; Clambake<br />\nCaptain &amp\; Crew Format<br />\n&nbsp\;
LOCATION:Irem Temple Country Club
UID:e.3296.769
SEQUENCE:3
DTSTAMP:20260422T023100Z
URL:https://business.backmountainchamber.org/events/details/40th-annual-dallas-rotary-fall-golf-classic-steak-clambake-769
END:VEVENT

END:VCALENDAR
