BEGIN:VCALENDAR
VERSION:2.0
PRODID:-//ChamberMaster//Event Calendar 2.0//EN
METHOD:PUBLISH
X-PUBLISHED-TTL:P3D
REFRESH-INTERVAL:P3D
CALSCALE:GREGORIAN
BEGIN:VEVENT
DTSTART;VALUE=DATE:20190816
DTEND;VALUE=DATE:20190817
TRANSP:TRANSPARENT
X-MICROSOFT-CDO-ALLDAYEVENT:TRUE
SUMMARY:4th Annual Equines For Freedom Golf Tournament
DESCRIPTION:4th Annual Equines for Freedom Golf Tournament\n\n                                                in Memory of William "Bill" Johnson\n\n\n\n                                           Friday\, August 16\, 2019\n\n                                            Irem Golf Club\, Dallas\n\n\n\n                                                Registration: 10am   Start:11am\n\n\n\n                                                For more Information\, Please contact\n\n                                  Dottie Johnson at 410-340-7088  or dottiebjohnson@hotmail.com
X-ALT-DESC;FMTTYPE=text/html:<span style="font-size:14px\;">&nbsp\; &nbsp\; &nbsp\; &nbsp\; &nbsp\; &nbsp\; &nbsp\; &nbsp\; &nbsp\; &nbsp\; &nbsp\; <span style="font-size:16px\;"><strong>4th Annual Equines for Freedom Golf Tournament</strong></span></span><br />\n<span style="font-size:14px\;">&nbsp\; &nbsp\; &nbsp\; &nbsp\; &nbsp\; &nbsp\; &nbsp\; &nbsp\; &nbsp\; &nbsp\; &nbsp\; &nbsp\; &nbsp\; &nbsp\; &nbsp\; &nbsp\; &nbsp\; &nbsp\; &nbsp\; &nbsp\; &nbsp\; &nbsp\; &nbsp\; &nbsp\; in Memory of William &quot\;Bill&quot\; Johnson</span><br />\n<br />\n<span style="font-size:16px\;">&nbsp\; &nbsp\; &nbsp\; &nbsp\; &nbsp\; &nbsp\; &nbsp\; &nbsp\; &nbsp\; &nbsp\; &nbsp\; &nbsp\; &nbsp\; &nbsp\; &nbsp\; &nbsp\; &nbsp\; &nbsp\; &nbsp\; &nbsp\; &nbsp\;<strong> &nbsp\;Friday\, August 16\, 2019<br />\n&nbsp\; &nbsp\; &nbsp\; &nbsp\; &nbsp\; &nbsp\; &nbsp\; &nbsp\; &nbsp\; &nbsp\; &nbsp\; &nbsp\; &nbsp\; &nbsp\; &nbsp\; &nbsp\; &nbsp\; &nbsp\; &nbsp\; &nbsp\; &nbsp\; &nbsp\; Irem Golf Club\, Dallas</strong></span><br />\n<br />\n<span style="font-size:14px\;">&nbsp\; &nbsp\; &nbsp\; &nbsp\; &nbsp\; &nbsp\; &nbsp\; &nbsp\; &nbsp\; &nbsp\; &nbsp\; &nbsp\; &nbsp\; &nbsp\; &nbsp\; &nbsp\; &nbsp\; &nbsp\; &nbsp\; &nbsp\; &nbsp\; &nbsp\; &nbsp\; &nbsp\; Registration: 10am&nbsp\; &nbsp\;Start:11am<br />\n<br />\n&nbsp\; &nbsp\; &nbsp\; &nbsp\; &nbsp\; &nbsp\; &nbsp\; &nbsp\; &nbsp\; &nbsp\; &nbsp\; &nbsp\; &nbsp\; &nbsp\; &nbsp\; &nbsp\; &nbsp\; &nbsp\; &nbsp\; &nbsp\; &nbsp\; &nbsp\; &nbsp\; &nbsp\; For more Information\, Please contact<br />\n&nbsp\; &nbsp\; &nbsp\; &nbsp\; &nbsp\; &nbsp\; &nbsp\; &nbsp\; &nbsp\; &nbsp\; &nbsp\; &nbsp\; &nbsp\; &nbsp\; &nbsp\; &nbsp\; &nbsp\; <span style="font-size:12px\;">Dottie Johnson at 410-340-7088&nbsp\; or dottiebjohnson@hotmail.com</span></span>
LOCATION:Irem Country Club\, Dallas
UID:e.3296.247
SEQUENCE:3
DTSTAMP:20260424T140506Z
URL:https://business.backmountainchamber.org/events/details/4th-annual-equines-for-freedom-golf-tournament-247
END:VEVENT

END:VCALENDAR
