BEGIN:VCALENDAR
VERSION:2.0
PRODID:-//ChamberMaster//Event Calendar 2.0//EN
METHOD:PUBLISH
X-PUBLISHED-TTL:P3D
REFRESH-INTERVAL:P3D
CALSCALE:GREGORIAN
BEGIN:VEVENT
DTSTART:20190830T223000Z
DTEND:20190831T023000Z
X-MICROSOFT-CDO-ALLDAYEVENT:FALSE
SUMMARY:50th Year Anniversary of Woodstock!
DESCRIPTION:50th Year Anniversary of Woodstock!\n\nWe are excited about our Cultural Event this year celebrating Woodstock.\n\nThe event will take place at Irem Pavilion\, Dallas\n\n\n\nFriday\, August 30\, 2019 \n\nDoors will open at 6:00 pm\n\nEvent: 6:30 pm - 10:30 pm\n\nTickets: $60 per person or $600 table of (10)\n\n\n\nYour ticket includes: hors d'oeuvres\, grilled carving stations\, pasta station\, dessert buffet\, beer\, wine\, and soft drinks.  A cash bar is available for all other drinks.\n\nDon't miss the chance to see the band CRUSH!\n\n\n\nOur Major Sponsors:\n\nMajor Event Sponsor / SIX HUNDRED Waterfront luxury living\n\nPrint Media Sponsor  /  The Citizens' Voice\n\nBillboard Media Sponsor  /  Lamar Advertising\n\nPavilion Sponsor  /  Philadelphia Hand to Shoulder Center\n\nTable Decoration Sponsor / Mountain Beverage\n\nTable Decoration Sponsor / Misericordia University\n\nBar Sponsor / Pulverman\n\nBar Sponsor / Falcon Flowback \n\nTicket Sponsor  /  Penn State Wilkes-Barre\n\nHors d'oeuvres Sponsor / 415 Pro Hardware\n\nHors d'oeuvres Sponsor / MotorWorld\n\nHors d'oeuvres Sponsor / American Asphalt\n\nRaffle Table Sponsor / J. Madison Wellness Spa\n\nFood Station Sponsor / Ken Pollock Auto Group\n\nFood Station Sponsor / Jacobi Capital Management\, LLC\n\nFood Station Sponsor / Joanna Bryn Smith Esquire\n\nFood Station Sponsor / Thomas J. Mosca Esquire\n\nFood Station Sponsor / Pro Rehab\n\nFood Station Sponsor / The Barn Nutrition & Fitness\n\nFood Station Sponsor / Family Hearing Center\n\nFood Station Sponsor / Sprau & Clements Dentistry\n\nFood Station Sponsor / M & T Bank\n\nDessert Table Sponsor / Hogan's Heroes & Pizza\n\nDessert Table Sponsor / Fino's Pharmacy\n\nDessert Table Sponsor / Greenbriar\n\nDessert Table Sponsor / Kimberly's Floral\n\nDessert Table Sponsor / Lewith & Freeman Real Estate\n\n\n\nTickets available online and also at\n\nJoe Nardone's Gallery of Sound - 186 Mundy St. Wilkes-Barre\, PA\n\n\n\n\n\nTickets must be purchased and paid for before event.\n\nThis is a 21 and older event.
X-ALT-DESC;FMTTYPE=text/html:<div style="text-align: center\; margin-left: 15px\;"><span style="font-size: 22px\;"><span style="font-family: times new roman\;"><u><span style="color: rgb(255\, 0\, 0)\;"><strong>50th Year Anniversary of Woodstock!</strong></span></u><br />\nWe are excited about our Cultural Event this year celebrating Woodstock.<br />\nThe event will take place at <strong>Irem Pavilion\, Dallas</strong></span></span></div>\n\n<div style="text-align: center\; margin-left: 15px\;"><br />\n<span style="font-family: times new roman\;"><span style="font-size: 20px\;">Friday\, August 30\, 2019&nbsp\;<br />\nDoors will open at 6:00 pm<br />\nEvent: 6:30 pm - 10:30 pm<br />\nTickets: $60 per person or $600 table of (10)</span></span><br />\n<br />\n<strong>Your ticket includes: </strong><span style="background-color: transparent\; color: rgb(34\, 34\, 34)\; font-family: Arial\,Helvetica\,sans-serif\; font-size: 13.33px\; font-style: italic\; font-variant: normal\; font-weight: 400\; letter-spacing: normal\; orphans: 2\; text-align: left\; text-decoration: none\; text-indent: 0px\; text-transform: none\; -webkit-text-stroke-width: 0px\; white-space: normal\; word-spacing: 0px\;">hors d&rsquo\;oeuvres\, grilled carving stations\, pasta station\, dessert buffet\, beer\, wine\, and soft drinks.&nbsp\; A cash bar is available for all other drinks.</span><br />\n<span style="font-family: &quot\;times new roman&quot\;\; font-size: 20px\;"><span style="font-size: 18px\;">Don&#39\;t miss the chance to see the band</span>&nbsp\;</span><span style="font-family: &quot\;times new roman&quot\;\; font-size: 22px\;">CRUSH!</span><br style="font-family: &quot\;times new roman&quot\;\; font-size: 20px\;" />\n<br style="font-family: &quot\;times new roman&quot\;\; font-size: 20px\;" />\n<u style="font-family: &quot\;times new roman&quot\;\; font-size: 20px\;">Our Major Sponsors:</u>\n\n<div style="margin-left: 15px\;"><span style="font-size: 16px\;">Major Event Sponsor / SIX HUNDRED Waterfront luxury living</span></div>\n\n<div style="margin-left: 15px\;"><span style="font-size: 14px\;">Print Media Sponsor &nbsp\;/ &nbsp\;The Citizens&rsquo\; Voice</span></div>\n\n<div style="margin-left: 15px\;"><span style="font-size: 14px\;">Billboard Media Sponsor &nbsp\;/ &nbsp\;Lamar Advertising</span></div>\n\n<div style="margin-left: 15px\;"><span style="font-size: 14px\;">Pavilion Sponsor &nbsp\;/ &nbsp\;Philadelphia Hand to Shoulder Center<br />\nTable Decoration Sponsor / Mountain Beverage<br />\nTable Decoration Sponsor / Misericordia University<br />\nBar Sponsor / Pulverman<br />\nBar Sponsor&nbsp\;/ Falcon Flowback&nbsp\;</span></div>\n\n<div style="margin-left: 15px\;"><span style="font-size: 18px\;"><span style="font-size: 16px\;"><span style="font-size: 14px\;">Ticket Sponsor &nbsp\;/ &nbsp\;Penn State Wilkes-Barre<br />\nHors d&#39\;oeuvres Sponsor / 415 Pro Hardware<br />\nHors d&#39\;oeuvres Sponsor / MotorWorld<br />\nHors d&#39\;oeuvres Sponsor / American Asphalt<br />\nRaffle Table Sponsor / J. Madison Wellness Spa<br />\nFood Station Sponsor / Ken Pollock Auto Group<br />\nFood Station Sponsor / Jacobi Capital Management\, LLC<br />\nFood Station Sponsor&nbsp\;/ Joanna Bryn Smith Esquire<br />\nFood Station Sponsor / Thomas J. Mosca Esquire<br />\nFood Station&nbsp\;Sponsor / Pro Rehab<br />\nFood Station Sponsor / The Barn Nutrition &amp\; Fitness<br />\nFood Station Sponsor / Family Hearing Center<br />\nFood Station Sponsor / Sprau &amp\; Clements Dentistry<br />\nFood Station Sponsor / M &amp\; T Bank<br />\nDessert Table Sponsor / Hogan&#39\;s Heroes &amp\; Pizza<br />\nDessert Table Sponsor / Fino&#39\;s Pharmacy<br />\nDessert Table Sponsor / Greenbriar<br />\nDessert Table Sponsor / Kimberly&#39\;s Floral<br />\nDessert Table Sponsor / Lewith &amp\; Freeman Real Estate</span><br />\n<br />\nTickets available online and also at<br />\nJoe Nardone&#39\;s Gallery of Sound - 186 Mundy St. Wilkes-Barre\, PA</span><br />\n<br />\n<br />\n<span style="font-size: 14px\;"><em>Tickets must be purchased and paid for before event.<br />\nThis is a 21 and older event.</em></span></span></div>\n</div>\n
LOCATION:Irem Pavillion\, Dallas
UID:e.3296.207
SEQUENCE:3
DTSTAMP:20260424T135627Z
URL:https://business.backmountainchamber.org/events/details/50th-year-anniversary-of-woodstock-207
END:VEVENT

END:VCALENDAR
