BEGIN:VCALENDAR
VERSION:2.0
PRODID:-//ChamberMaster//Event Calendar 2.0//EN
METHOD:PUBLISH
X-PUBLISHED-TTL:P3D
REFRESH-INTERVAL:P3D
CALSCALE:GREGORIAN
BEGIN:VEVENT
DTSTART:20190904T200000Z
DTEND:20190905T030000Z
X-MICROSOFT-CDO-ALLDAYEVENT:FALSE
SUMMARY:57th Annual Luzerne County Fair
DESCRIPTION:57th Annual Luzerne County Fair\n\nSeptember 4-8\, 2019\n\nRoute 118   Dallas\, PA
X-ALT-DESC;FMTTYPE=text/html:57th Annual Luzerne County Fair<br />\nSeptember 4-8\, 2019<br />\nRoute 118&nbsp\; &nbsp\;Dallas\, PA
LOCATION:Luzerne County Fairgrounds Route 118 Dallas\, PA
UID:e.3296.254
SEQUENCE:3
DTSTAMP:20260424T123139Z
URL:https://business.backmountainchamber.org/events/details/57th-annual-luzerne-county-fair-254
END:VEVENT

END:VCALENDAR
