BEGIN:VCALENDAR
VERSION:2.0
PRODID:-//ChamberMaster//Event Calendar 2.0//EN
METHOD:PUBLISH
X-PUBLISHED-TTL:P3D
REFRESH-INTERVAL:P3D
CALSCALE:GREGORIAN
BEGIN:VEVENT
DTSTART:20190908T150000Z
DTEND:20190909T013000Z
X-MICROSOFT-CDO-ALLDAYEVENT:FALSE
SUMMARY:57th Annual Luzerne County Fair
DESCRIPTION:57th Annual Luzerne County Fair\n\nSeptember 4-8\, 2019\n\nRoute 118   Dallas\, PA
X-ALT-DESC;FMTTYPE=text/html:<span style="color: rgb(51\, 51\, 51)\; font-family: sans-serif\, Arial\, Verdana\, &quot\;Trebuchet MS&quot\;\; font-size: 13px\; background-color: rgb(255\, 255\, 255)\;">57th Annual Luzerne County Fair</span><br style="color: rgb(51\, 51\, 51)\; font-family: sans-serif\, Arial\, Verdana\, &quot\;Trebuchet MS&quot\;\; font-size: 13px\;" />\n<span style="color: rgb(51\, 51\, 51)\; font-family: sans-serif\, Arial\, Verdana\, &quot\;Trebuchet MS&quot\;\; font-size: 13px\; background-color: rgb(255\, 255\, 255)\;">September 4-8\, 2019</span><br style="color: rgb(51\, 51\, 51)\; font-family: sans-serif\, Arial\, Verdana\, &quot\;Trebuchet MS&quot\;\; font-size: 13px\;" />\n<span style="color: rgb(51\, 51\, 51)\; font-family: sans-serif\, Arial\, Verdana\, &quot\;Trebuchet MS&quot\;\; font-size: 13px\; background-color: rgb(255\, 255\, 255)\;">Route 118&nbsp\; &nbsp\;Dallas\, PA</span>
LOCATION:Luzerne County Fairgrounds Route 118 Dallas\, PA
UID:e.3296.258
SEQUENCE:3
DTSTAMP:20260424T135436Z
URL:https://business.backmountainchamber.org/events/details/57th-annual-luzerne-county-fair-258
END:VEVENT

END:VCALENDAR
