BEGIN:VCALENDAR
VERSION:2.0
PRODID:-//ChamberMaster//Event Calendar 2.0//EN
METHOD:PUBLISH
X-PUBLISHED-TTL:P3D
REFRESH-INTERVAL:P3D
CALSCALE:GREGORIAN
BEGIN:VEVENT
DTSTART:20191201T170000Z
DTEND:20191201T220000Z
X-MICROSOFT-CDO-ALLDAYEVENT:FALSE
SUMMARY:5th Annual #HealthyHoliday Vendor/Craft\, Wellness Market Place
DESCRIPTION:Showcasing quality vendors such as Artisans and Psychics\, Re-purposers\, chiropractors\, acupuncturists\, nutritionists\, yoga teachers\, herbalists\, energy healers\, crystal healers\, massage therapists\, mediums\, psychic readers\, rocks and crystals\, jewelry\, cd's and books\, clothes\, Native American etc. merchants and more!
X-ALT-DESC;FMTTYPE=text/html:Showcasing quality vendors such as Artisans and Psychics\, Re-purposers\, chiropractors\, acupuncturists\, nutritionists\, yoga teachers\, herbalists\, energy healers\, crystal healers\, massage therapists\, mediums\, psychic readers\, rocks and crystals\, jewelry\, cd&#39\;s and books\, clothes\, Native American etc. merchants and more!
LOCATION:Luzerne Volunteer Fire Department 66 Tener St\, Luzerne\, Pennsylvania 18709
UID:e.3296.296
SEQUENCE:3
DTSTAMP:20260424T083946Z
URL:https://business.backmountainchamber.org/events/details/5th-annual-healthyholiday-vendor-craft-wellness-market-place-296
END:VEVENT

END:VCALENDAR
