BEGIN:VCALENDAR
VERSION:2.0
PRODID:-//ChamberMaster//Event Calendar 2.0//EN
METHOD:PUBLISH
X-PUBLISHED-TTL:P3D
REFRESH-INTERVAL:P3D
CALSCALE:GREGORIAN
BEGIN:VEVENT
DTSTART;VALUE=DATE:20220801
DTEND;VALUE=DATE:20220802
TRANSP:TRANSPARENT
X-MICROSOFT-CDO-ALLDAYEVENT:TRUE
SUMMARY:61st Annual JCC Golf Outing
DESCRIPTION:
X-ALT-DESC;FMTTYPE=text/html:
LOCATION:Huntsville Golf Course 1334 Market Street Dallas\, PA 18612
UID:e.3296.733
SEQUENCE:3
DTSTAMP:20260422T022650Z
URL:https://business.backmountainchamber.org/events/details/61st-annual-jcc-golf-outing-733
END:VEVENT

END:VCALENDAR
