BEGIN:VCALENDAR
VERSION:2.0
PRODID:-//ChamberMaster//Event Calendar 2.0//EN
METHOD:PUBLISH
X-PUBLISHED-TTL:P3D
REFRESH-INTERVAL:P3D
CALSCALE:GREGORIAN
BEGIN:VEVENT
DTSTART:20191013T210000Z
DTEND:20191014T000000Z
X-MICROSOFT-CDO-ALLDAYEVENT:FALSE
SUMMARY:8th Annual Taste the Local Harvest
DESCRIPTION:8th Annual Taste the local Harvest\n\nPresented by North Branch Land Trust\n\n\n\nSunday\, October 13\, 2019\n\n5:00-8:00 PM\n\n\n\nTickets $60 and includes: Drinks: locally produced brews & wines\n\nFood: locally grown or raised foods prepared by Chef Ryan at Huntsville Golf Club  Football: Live Broadcast NFL Sunday ticket  Music: LEX & DEX \n\n\n\nHuntsville Golf Club\n\n1334 Market Street\n\nDallas\, PA 18612\n\n\n\nEnjoy a fun\, casual evening\; watch football\; be entertained\; sample the local harvest at tasting stations\; learn about local products\; support land conservation in NEPA!
X-ALT-DESC;FMTTYPE=text/html:<br />\n<strong>8th Annual Taste the local Harvest<br />\nPresented by North Branch Land Trust</strong><br />\n<br />\nSunday\, October 13\, 2019<br />\n5:00-8:00 PM<br />\n<br />\n<strong><span style="font-size:16px\;">Tickets $60 and includes</span></strong>: <em>Drinks:</em> locally produced brews &amp\; wines<br />\n<em>Food:</em> locally grown or raised foods prepared by Chef Ryan at Huntsville Golf Club&nbsp\;<em> Football:</em> Live Broadcast NFL Sunday ticket&nbsp\; <em>Music:</em> LEX &amp\; DEX&nbsp\;<br />\n<br />\nHuntsville Golf Club<br />\n1334 Market Street<br />\nDallas\, PA 18612<br />\n<br />\n<em>Enjoy a fun\, casual evening\; watch football\; be entertained\; sample the local harvest at tasting stations\; learn about local products\; support land conservation in NEPA!</em>
LOCATION:Huntsville Golf Club 1334 Market St Dallas\, PA 18612
UID:e.3296.271
SEQUENCE:3
DTSTAMP:20260424T110822Z
URL:https://business.backmountainchamber.org/events/details/8th-annual-taste-the-local-harvest-271
END:VEVENT

END:VCALENDAR
