BEGIN:VCALENDAR
VERSION:2.0
PRODID:-//ChamberMaster//Event Calendar 2.0//EN
METHOD:PUBLISH
X-PUBLISHED-TTL:P3D
REFRESH-INTERVAL:P3D
CALSCALE:GREGORIAN
BEGIN:VEVENT
DTSTART:20260228T231500Z
DTEND:20260301T021500Z
X-MICROSOFT-CDO-ALLDAYEVENT:FALSE
SUMMARY:A night of comedy
DESCRIPTION:Join us for a night of laughter on SATURDAY\, FEBRUARY 28! We're excited to welcome headliner Adam Oliensis for an evening of sharp\, clever comedy and great company. Grab your friends\, enjoy refreshments\, and settle in for a fun night out in the community. Doors open at 6:15 PM Show starts at 7:15 PM $20 per ticket (member discount available) Seats are limited   register today before tickets sell out! Email c.weiss@nepajca.org to register
X-ALT-DESC;FMTTYPE=text/html:Join us for a night of laughter on SATURDAY\, FEBRUARY 28! We&#39\;re excited to welcome headliner Adam Oliensis for an evening of sharp\, clever comedy and great company. Grab your friends\, enjoy refreshments\, and settle in for a fun night out in the community. Doors open at 6:15 PM Show starts at 7:15 PM $20 per ticket (member discount available) Seats are limited &mdash\; register today before tickets sell out! Email c.weiss@nepajca.org to register
LOCATION:451 Third Ave\, Kingston\, PA\, 18704
UID:e.3296.1194
SEQUENCE:3
DTSTAMP:20260423T075327Z
URL:https://business.backmountainchamber.org/events/details/a-night-of-comedy-1194
END:VEVENT

END:VCALENDAR
