BEGIN:VCALENDAR
VERSION:2.0
PRODID:-//ChamberMaster//Event Calendar 2.0//EN
METHOD:PUBLISH
X-PUBLISHED-TTL:P3D
REFRESH-INTERVAL:P3D
CALSCALE:GREGORIAN
BEGIN:VEVENT
DTSTART:20250916T213000Z
DTEND:20250917T000000Z
X-MICROSOFT-CDO-ALLDAYEVENT:FALSE
SUMMARY:Annual Barn Banquet
DESCRIPTION:Join North Branch Land Trust at the 4th Annual Barn Banquet in celebration of NEPA's agricultural heritage.\n\nHelp support NBLT's long-standing tradition of conserving our local farmlands and rich agricultural assets.\n\nEnjoy an evening of farm to table food provided by Bank+Vine at Friedman Farms.
X-ALT-DESC;FMTTYPE=text/html:<p><span style="color:rgba(89\,107\,15\,var(--O42jJQ\,1))">Join North Branch Land Trust at&nbsp\;</span><span style="color:rgba(89\,107\,15\,var(--O42jJQ\,1))">the 4th Annual Barn Banquet in celebration of&nbsp\;</span><span style="color:rgba(89\,107\,15\,var(--O42jJQ\,1))">NEPA&rsquo\;s agricultural heritage.</span></p>\n\n<p><span style="color:rgba(89\,107\,15\,var(--O42jJQ\,1))">Help support NBLT&rsquo\;s long-standing tradition of conserving our local farmlands and rich agricultural assets.</span></p>\n\n<p><span style="color:rgba(89\,107\,15\,var(--O42jJQ\,1))">Enjoy an evening of farm to table food provided by Bank+Vine at Friedman Farms.</span></p>\n
LOCATION:Friedman Farms 138 Wyoming Road\, Dallas PA 18612
UID:e.3296.1139
SEQUENCE:3
DTSTAMP:20260423T004935Z
URL:https://business.backmountainchamber.org/events/details/annual-barn-banquet-1139
END:VEVENT

END:VCALENDAR
