BEGIN:VCALENDAR
VERSION:2.0
PRODID:-//ChamberMaster//Event Calendar 2.0//EN
METHOD:PUBLISH
X-PUBLISHED-TTL:P3D
REFRESH-INTERVAL:P3D
CALSCALE:GREGORIAN
BEGIN:VEVENT
DTSTART:20200111T000000Z
DTEND:20200111T020000Z
X-MICROSOFT-CDO-ALLDAYEVENT:FALSE
SUMMARY:Annual NEPACMS Benefit Concert
DESCRIPTION:The Annual Northeastern Pennsylvania Chamber Music Society Benefit Concert returns by popular demand.\n\nAn evening of dramatic music entitled\, "A Bohemian Winter" followed by an elegant reception and an opportunity to mingle with the musicians. \n\n\n\nFriday\, January 10\, 2020\n\nStarting at 7:00 PM \n\nHayfield House at Penn State Wilkes-Barre\n\n\n\nSeating is limited\, online ticket purchase only!\n\n$20 per person\n\n\n\nSponsorships available in four levels starting at $500 which includes: A pair of tickets to the Benefit Concert and a quarter-page ad in the Benefit program plus special recognition. These monetary donations help bring chamber music to the NEPA region in support of the arts\, in our local area and schools. \n\n\n\nMore info available at NEPACMS.org/sponsor
X-ALT-DESC;FMTTYPE=text/html:<br />\n<span style="font-size:18px\;"><span style="color:#000080\;">The Annual<em> </em><u>Northeastern Pennsylvania Chamber Music Society</u> Benefit Concert returns by popular demand.<br />\nAn evening of dramatic music entitled\, &quot\;<strong><em>A Bohemian Winter&quot\;&nbsp\;</em></strong>followed by an elegant reception and an opportunity to mingle with the musicians.&nbsp\;<br />\n<br />\nFriday\, January 10\, 2020<br />\nStarting at 7:00 PM&nbsp\;<br />\nHayfield House at Penn State Wilkes-Barre<br />\n<br />\n<strong>Seating is limited\, online ticket purchase only!<br />\n$20 per person</strong><br />\n<br />\nSponsorships available in four levels starting at $500 which includes: A pair of tickets to the Benefit Concert and a quarter-page ad in the Benefit program plus special recognition. These monetary donations help bring chamber music to the NEPA region in support of the arts\, in our local area and schools.&nbsp\;<br />\n<br />\nMore info available at NEPACMS.org/sponsor&nbsp\;</span></span>
LOCATION:Hayfield House at Penn State Wilkes-Barre 44 University Dr. Dallas\, PA 18612
UID:e.3296.273
SEQUENCE:3
DTSTAMP:20260424T065737Z
URL:https://business.backmountainchamber.org/events/details/annual-nepacms-benefit-concert-273
END:VEVENT

END:VCALENDAR
