BEGIN:VCALENDAR
VERSION:2.0
PRODID:-//ChamberMaster//Event Calendar 2.0//EN
METHOD:PUBLISH
X-PUBLISHED-TTL:P3D
REFRESH-INTERVAL:P3D
CALSCALE:GREGORIAN
BEGIN:VEVENT
DTSTART:20190410T153000Z
DTEND:20190410T170000Z
X-MICROSOFT-CDO-ALLDAYEVENT:FALSE
SUMMARY:April Luncheon 2019
DESCRIPTION:April Luncheon! \n\nPlease join the Back Mountain Chamber for our\n\nMonthly Luncheon at Irem Clubhouse\n\n\n\nIrem Clubhouse\, Dallas\n\nWednesday\, April 10\, 2019\n\n11:30 am - 1:00 pm\n\n \nFeatured Speaker:\n\nSusan Collini speaking about\n\n"Looking Better in the Workplace"\n\n \nMembers $20 / Non-Members $30\n\nRegister Here
X-ALT-DESC;FMTTYPE=text/html:<div style="text-align: center\;"><span style="color:#800080\;"><span style="font-size:20px\;"><span style="font-family:times new roman\;"><strong>April Luncheon!&nbsp\;</strong><br />\nPlease join the Back Mountain Chamber for our<br />\nMonthly Luncheon at Irem Clubhouse<br />\n<br />\n<strong>Irem Clubhouse\, Dallas<br />\nWednesday\, April 10\, 2019<br />\n11:30 am - 1:00 pm</strong></span></span></span><br />\n&nbsp\;\n<div align="center" style="color: rgb(52\, 51\, 50)\; font-family: Cambria\, Georgia\, &quot\;Times New Roman&quot\;\, serif\; font-size: 14px\; background-color: rgb(255\, 255\, 255)\; text-align: center\;"><span style="font-size: 20px\; color: rgb(128\, 0\, 128)\; font-weight: bold\; font-style: italic\;">Featured Speaker:</span></div>\n\n<div align="center" style="color: rgb(52\, 51\, 50)\; font-family: Cambria\, Georgia\, &quot\;Times New Roman&quot\;\, serif\; font-size: 14px\; background-color: rgb(255\, 255\, 255)\; text-align: center\;"><span style="font-size: 20px\; color: rgb(128\, 0\, 128)\; font-family: &quot\;Lobster Two&quot\;\, cursive\; font-weight: bold\;">Susan Collini speaking about<br />\n&quot\;Looking Better in the Workplace&quot\;</span></div>\n\n<div>&nbsp\;</div>\n<span style="color:#800080\;"><span style="font-size:20px\;"><span style="font-family:times new roman\;"><strong>Members $20 / Non-Members $30<br />\nRegister Here</strong></span></span></span></div>\n
LOCATION:Irem Clubhouse
UID:e.3296.204
SEQUENCE:3
DTSTAMP:20260424T200617Z
URL:https://business.backmountainchamber.org/events/details/april-luncheon-2019-204
END:VEVENT

END:VCALENDAR
