BEGIN:VCALENDAR
VERSION:2.0
PRODID:-//ChamberMaster//Event Calendar 2.0//EN
METHOD:PUBLISH
X-PUBLISHED-TTL:P3D
REFRESH-INTERVAL:P3D
CALSCALE:GREGORIAN
BEGIN:VEVENT
DTSTART:20190825T140000Z
DTEND:20190825T210000Z
X-MICROSOFT-CDO-ALLDAYEVENT:FALSE
SUMMARY:Arts at Hayfield Summer Event
DESCRIPTION:ARTS AT HAYFIELD\n\n           SUMMER FESTIVAL CRAFT FAIR\n\n\n\n                        Penn State Wilkes-Barre Campus  Lehman\, PA\n\n                                            Sunday\, August 25\, 2019\n\n                                              10:00 AM - 5:00 PM\n\n\n\n                                                  Rain or Shine       \n\n\n\n  \n\nHouse Tours\n\n\n\n\n\nFollow our guides on a 45 minute tour of historic Hayfield House. Built in 1930 by John and Bertha Conyngham\, it was one of the most expensive and opulent houses in the area.  Meet in the front room of Hayfield house for the tours.\n\nTour time: 11am\, 1:15pm\, and 3:00pm\n\n \n\n\nEntertainment\n\n\n\n \n\nTake a break from the crafts and enjoy some entertainment on the Back Patio stage\, or in the Tent.\n\n \n\n\n	\n		\n			11:30 AM\n			Irish Step Dancing with Emerald Isle Irish Dancers\n			Patio\n		\n		\n			12:30 PM -1:15pm\n			Chamber Music with Northeastern Pennsylvania Chamber Music Society\n			Hayfield 105\n		\n		\n			1:30 PM\n			Country Sounds of The Less Boys and More\n			Tent\n		\n		\n			2:30 PM\n			Native American Drumming and Dance with Frank LittleBear\n			Patio\n		\n		\n			3:30 PM\n			Just Us Folk Music\n			Tent\n		\n		\n			 \n			 \n			 \n		\n		\n			11 am to 12 noon\n			Observatory Open House with Violet Major\n			Tech\n		\n		\n			1:30 - 3 pm\n			Princesses and Heroes by Gina Majors\n			Gazebo\n		\n		\n			1:30 - 3 pm\n			Bob Smith Walk-About Juggling\n			Grounds\n		\n		\n			1 - 2 pm\n			Tang So Do with Dudley Snyder\n			Grounds\n		\n		\n			2 - 4 pm\n			Pat Ward\n			Grounds\n		\n		\n			3:30 to 4:30 +\n			Fiddler on the Move - Chrissy Att Eyer\n			Grounds
X-ALT-DESC;FMTTYPE=text/html:<span style="font-size:18px\;">&nbsp\; &nbsp\; &nbsp\; &nbsp\; &nbsp\; &nbsp\; &nbsp\; &nbsp\; &nbsp\; &nbsp\; &nbsp\; &nbsp\; &nbsp\;&nbsp\;<br />\n&nbsp\; &nbsp\; &nbsp\; &nbsp\; &nbsp\; &nbsp\; &nbsp\; &nbsp\; &nbsp\; &nbsp\; <strong><span style="font-size:48px\;">&nbsp\;&nbsp\;</span></strong><span style="font-family:arial\;"><span style="font-size:26px\;"><span style="font-size:36px\;"><strong>ARTS AT HAYFIELD</strong></span><br />\n&nbsp\; &nbsp\; &nbsp\; &nbsp\; &nbsp\; &nbsp\;SUMMER FESTIVAL CRAFT FAIR</span></span></span><br />\n<br />\n&nbsp\; &nbsp\; &nbsp\; &nbsp\; &nbsp\; &nbsp\; &nbsp\; &nbsp\; &nbsp\; &nbsp\; &nbsp\; &nbsp\;&nbsp\;<span style="font-size:18px\;">Penn State Wilkes-Barre Campus&nbsp\; Lehman\, PA<br />\n&nbsp\; &nbsp\; &nbsp\; &nbsp\; &nbsp\; &nbsp\; &nbsp\; &nbsp\; &nbsp\; &nbsp\; &nbsp\; &nbsp\; &nbsp\; &nbsp\; &nbsp\; &nbsp\; &nbsp\; &nbsp\; &nbsp\; &nbsp\; &nbsp\; &nbsp\; Sunday\, August 25\, 2019<br />\n&nbsp\; &nbsp\; &nbsp\; &nbsp\; &nbsp\; &nbsp\; &nbsp\; &nbsp\; &nbsp\; &nbsp\; &nbsp\; &nbsp\; &nbsp\; &nbsp\; &nbsp\; &nbsp\; &nbsp\; &nbsp\; &nbsp\; &nbsp\; &nbsp\; &nbsp\; &nbsp\; 10:00 AM - 5:00 PM<br />\n<br />\n&nbsp\; &nbsp\; &nbsp\; &nbsp\; &nbsp\; &nbsp\; &nbsp\; &nbsp\; &nbsp\; &nbsp\; &nbsp\; &nbsp\; &nbsp\; &nbsp\; &nbsp\; &nbsp\; &nbsp\; &nbsp\; &nbsp\; &nbsp\; &nbsp\; &nbsp\; &nbsp\; &nbsp\; &nbsp\;&nbsp\;Rain or Shine&nbsp\; &nbsp\; &nbsp\; &nbsp\;<br />\n<br />\n&nbsp\; </span>\n<div class="n module-type-header diyfeLiveArea " style="padding: 0px\; margin: 0px\; color: rgb(117\, 117\, 117)\; font-family: Georgia\, &quot\;Times New Roman&quot\;\, serif\; font-size: 16px\; background-color: rgb(255\, 255\, 255)\;">\n<h2 style="margin: 0px\; padding: 0px\; color: rgb(94\, 94\, 94)\; font-size: 26px\;"><span class="diyfeDecoration">House Tours</span></h2>\n</div>\n\n<div class="n module-type-text diyfeLiveArea " style="padding: 0px\; margin: 0px\; color: rgb(117\, 117\, 117)\; font-family: Georgia\, &quot\;Times New Roman&quot\;\, serif\; font-size: 16px\; background-color: rgb(255\, 255\, 255)\;">\n<p style="margin: 0px\; padding: 0px\;"><br />\nFollow our guides on a 45 minute tour of historic Hayfield House. Built in 1930 by John and Bertha Conyngham\, it was one of the most expensive and opulent houses in the area.&nbsp\; Meet in the front room of Hayfield house for the tours.</p>\n\n<p style="margin: 0px\; padding: 0px\;">Tour time: 11am\, 1:15pm\, and 3:00pm<br />\n&nbsp\;</p>\n\n<div class="n module-type-header diyfeLiveArea " style="padding: 0px\; margin: 0px\; color: rgb(117\, 117\, 117)\; font-family: Georgia\, &quot\;Times New Roman&quot\;\, serif\; font-size: 16px\; background-color: rgb(255\, 255\, 255)\;">\n<h2 style="margin: 0px\; padding: 0px\; color: rgb(94\, 94\, 94)\; font-size: 26px\;"><span class="diyfeDecoration">Entertainment</span></h2>\n</div>\n\n<div class="n module-type-text diyfeLiveArea " style="padding: 0px\; margin: 0px\; color: rgb(117\, 117\, 117)\; font-family: Georgia\, &quot\;Times New Roman&quot\;\, serif\; font-size: 16px\; background-color: rgb(255\, 255\, 255)\;">\n<p style="margin: 0px\; padding: 0px\;">&nbsp\;</p>\n\n<p style="margin: 0px\; padding: 0px\;">Take a break from the crafts and enjoy some entertainment on the Back Patio stage\, or in the Tent.</p>\n\n<p style="margin: 0px\; padding: 0px\;">&nbsp\;</p>\n\n<table style="border-collapse: collapse\; border-spacing: 0px\;">\n	<tbody>\n		<tr>\n			<td>11:30 AM</td>\n			<td>Irish Step Dancing with Emerald Isle Irish Dancers</td>\n			<td>Patio</td>\n		</tr>\n		<tr>\n			<td>12:30 PM -1:15pm</td>\n			<td>Chamber Music with Northeastern Pennsylvania Chamber Music Society</td>\n			<td>Hayfield 105</td>\n		</tr>\n		<tr>\n			<td>1:30 PM</td>\n			<td>Country Sounds of The Less Boys and More</td>\n			<td>Tent</td>\n		</tr>\n		<tr>\n			<td>2:30 PM</td>\n			<td>Native American Drumming and Dance with Frank LittleBear</td>\n			<td>Patio</td>\n		</tr>\n		<tr>\n			<td>3:30 PM</td>\n			<td>Just Us Folk Music</td>\n			<td>Tent</td>\n		</tr>\n		<tr>\n			<td>&nbsp\;</td>\n			<td>&nbsp\;</td>\n			<td>&nbsp\;</td>\n		</tr>\n		<tr>\n			<td>11 am to 12 noon</td>\n			<td>Observatory Open House with Violet Major</td>\n			<td>Tech</td>\n		</tr>\n		<tr>\n			<td>1:30 - 3 pm</td>\n			<td>Princesses and Heroes by Gina Majors</td>\n			<td>Gazebo</td>\n		</tr>\n		<tr>\n			<td>1:30 - 3 pm</td>\n			<td>Bob Smith Walk-About Juggling</td>\n			<td>Grounds</td>\n		</tr>\n		<tr>\n			<td>1 - 2 pm</td>\n			<td>Tang So Do with Dudley Snyder</td>\n			<td>Grounds</td>\n		</tr>\n		<tr>\n			<td>2 - 4 pm</td>\n			<td>Pat Ward</td>\n			<td>Grounds</td>\n		</tr>\n		<tr>\n			<td>3:30 to 4:30 +</td>\n			<td>Fiddler on the Move - Chrissy Att Eyer</td>\n			<td>Grounds</td>\n		</tr>\n	</tbody>\n</table>\n</div>\n</div>\n<span style="font-size:18px\;">&nbsp\; &nbsp\; &nbsp\; &nbsp\; &nbsp\;&nbsp\;</span><br />\n&nbsp\;
LOCATION:Penn State Wilkes-Barre\, Lehman PA
UID:e.3296.253
SEQUENCE:3
DTSTAMP:20260424T135447Z
URL:https://business.backmountainchamber.org/events/details/arts-at-hayfield-summer-event-253
END:VEVENT

END:VCALENDAR
