BEGIN:VCALENDAR
VERSION:2.0
PRODID:-//ChamberMaster//Event Calendar 2.0//EN
METHOD:PUBLISH
X-PUBLISHED-TTL:P3D
REFRESH-INTERVAL:P3D
CALSCALE:GREGORIAN
BEGIN:VEVENT
DTSTART:20200303T223000Z
DTEND:20200304T013000Z
X-MICROSOFT-CDO-ALLDAYEVENT:FALSE
SUMMARY:Back Mountain Chamber Annual Awards Event 2020
DESCRIPTION:The Back Mountain Chamber will honor and celebrate the businesses and individuals that make our community so special on Tuesday\, March 3\, 2020 from 5:30pm   8:30pm at Insalaco Hall at Misericordia University. All members of the community are invited and welcome to attend for a night of networking\, light fare and drinks with colleagues and friends.\n\n \n\nThe 2020 honorees include:\n\nBusiness of the Year: Pulverman\n\nEntrepreneur of the Year: John Halbing / Summit Pointe Builders\n\nVolunteer of the Year: Amanda Faneck\n\nPride of Place: Newberry Estates\n\nNew and Emerging Business of the Year: Little Lenny's Cheesecake Bakery\n\nAbove and Beyond Customer Service: AMP Global Strategies\n\nYoung Professional Under 40: Kevin Yurko and Bill Dease\n\nCommunity Champion: Fidelity Bank\n\nNon-Profit of the Year: The Lands at Hillside Farms\n\n \n\nTickets are $50 per person and will not be available at the door. Anyone interested in attending can call 570.675.9380 or purchase tickets online. Businesses interested in sponsoring this event can call 570.675.9380 for opportunities.
X-ALT-DESC;FMTTYPE=text/html:<span style="font-size:14px\;"><span style="font-family:arial\;">The Back Mountain Chamber will honor and celebrate the businesses and individuals that make our community so special on Tuesday\, March 3\, 2020 from 5:30pm &ndash\; 8:30pm at Insalaco Hall at Misericordia University. All members of the community are invited and welcome to attend for a night of networking\, light fare and drinks with colleagues and friends.<br />\n&nbsp\;<br />\nThe 2020 honorees include:<br />\n<strong><span style="color:black\;">Business of the Year:</span></strong><span style="color:black\;"> Pulverman</span><br />\n<strong><span style="color:black\;">Entrepreneur of the Year: </span></strong><span style="color:black\;">John Halbing / Summit Pointe Builders</span><br />\n<strong><span style="color:black\;">Volunteer of the Year: </span></strong><span style="color:black\;">Amanda Faneck</span><br />\n<strong><span style="color:black\;">Pride of Place: </span></strong><span style="color:black\;">Newberry Estates</span><br />\n<strong><span style="color:black\;">New and Emerging Business of the Year: </span></strong><span style="color:black\;">Little Lenny&rsquo\;s Cheesecake Bakery</span><br />\n<strong><span style="color:black\;">Above and Beyond Customer Service: </span></strong><span style="color:black\;">AMP Global Strategies</span><br />\n<strong><span style="color:black\;">Young Professional Under 40: </span></strong><span style="color:black\;">Kevin Yurko and Bill Dease</span><br />\n<strong><span style="color:black\;">Community Champion:</span></strong><span style="color:black\;"> Fidelity Bank</span><br />\n<strong><span style="color:black\;">Non-Profit of the Year:</span></strong><span style="color:black\;"> The Lands at Hillside Farms</span><br />\n&nbsp\;<br />\nTickets are $50 per person and will not be available at the door. Anyone interested in attending can call 570.675.9380 or purchase tickets online. Businesses interested in sponsoring this event can call 570.675.9380 for opportunities.<br />\n&nbsp\;</span></span>
LOCATION:Misericordia University Insalaco Hall 301 Lake Street\, Dallas\, PA 18612
UID:e.3296.298
SEQUENCE:3
DTSTAMP:20260424T040100Z
URL:https://business.backmountainchamber.org/events/details/back-mountain-chamber-annual-awards-event-2020-298
END:VEVENT

END:VCALENDAR
