BEGIN:VCALENDAR
VERSION:2.0
PRODID:-//ChamberMaster//Event Calendar 2.0//EN
METHOD:PUBLISH
X-PUBLISHED-TTL:P3D
REFRESH-INTERVAL:P3D
CALSCALE:GREGORIAN
BEGIN:VEVENT
DTSTART;VALUE=DATE:20200307
DTEND;VALUE=DATE:20200328
TRANSP:TRANSPARENT
X-MICROSOFT-CDO-ALLDAYEVENT:TRUE
SUMMARY:Back Mountain Chamber Annual Spring Food Drive
DESCRIPTION:Back Mountain Chamber Annual Spring Food Drive\n\nMarch 7 - March 27\, 2020\n\n\n\nNow in its sixth year\, this annual food drive is made possible through support from the Chamber's members\, local merchants\, area schools\, banks and more.\n\n\n\nThis year\, due to the impact of coronavirus and numerous business closures\, we are urging the community to donate non-perishable food items and/or monetary contributions directly to the Back Mountain Food Pantry. Many individuals and families in our area will need help more than ever. Let's step up together and be part of something positive!\n\n\n\nPlease deliver food and monetary donations directly to the Back Mountain Food Pantry (40 Knob Hill\, Trucksville) during regular business hours (Tues + Thurs + Fri: 10am   12pm).\n\n\n\nAt this time\, we ask that you do not bring food to the locations below\, but we would like to acknowledge the following businesses that were actively participating as drop off locations before coronavirus thwarted our plans. \n\n \n\nCollection locations include: \n\n	415 Pro Hardware (Dallas)\n	AMP Global Strategies (Shavertown)\n	A-s Cutting Crew (Dallas)\n	Back Mountain Chamber Office (Dallas)\n	Back Mountain Memorial Library (Dallas)\n	Bernie's Pizza (Dallas)\n	Chris's Auto Repair (Dallas)\n	Dallas Auto Parts (Dallas)\n	Dallas Elementary (Dallas)\n	Dallas High School (Dallas)\n	Dallas Middle School (Dallas)\n	Damien's On The Lake\n	Ecenrode Electric (Dallas)\n	Family Hearing Center (Dallas)\n	First Keystone Community Bank  (Dallas and Kingston Offices)\n	FNCB Bank (Shavertown)\n	Frontier (Dallas)\n	Hilbert's Equipment & Welding\, Inc. (Dallas)\n	I'm Big Now Preschool / Kindergarten (Shavertown)\n	J&J Restaurant & Bar (Dallas)\n	Jack Williams Tire (Dallas)\n	Komensky's Kielbasi (Dallas)\n	Lake-Lehman Jr./Sr. High School (Lehman)\n	Lake-Lehman Lake/Noxen Elementary (Lehman)\n	Lake-Lehman Lehman/Jackson Elementary (Lehman)\n	Lake-Lehman Ross Elementary (Lehman)\n	Landmark Bank (Wyoming)\n	Luzerne Bank (Dallas and Lake Offices)\n	Melt Hot Yoga (Edwardsville)\n	Michael Eckman Fitness (Dallas)\n	Mosca Law (Kingston)\n	NAPA Dallas Auto Parts (Dallas)\n	NBT Bank (Shavertown)\n	Penn State Wilkes-Barre (Dallas)\n	Pizza Perfect (Trucksville)\n	Pulverman (Dallas)\n	Senator Lisa Baker's Office (Dallas)\n	Small Wonders Day Care (Shavertown)\n	The Lands at Hillside Farms Dairy Store (Shavertown)\n	The Medicine Shoppe (Dallas)\n	The Westmoreland Club (Wilkes-Barre)\n	Tom Ochman Coins & Jewelry (Dallas)\n	Twin Stacks Golf Center (Dallas)\n	Wild Birds Unlimited (Dallas)\n	Wycallis Primary Center (Dallas)\n\nMembers of the Back Mountain Chamber's Food Drive Committee include: Stacia Arnaud\, Pam Bonomo (co-chair)\, Kristyn Ecenrode\, Amanda Faneck\, Jenny Hetro\, Doreen Johnson\, Donna Luksh\, Atty. Tom Mosca\, Chet Mozloom\, Bill Race\, Sandy Race (co-chair)\, Susan Slocum\, Cindy Thomas and Lew Thomas.
X-ALT-DESC;FMTTYPE=text/html:<span style="font-size:18px\;">Back Mountain Chamber Annual Spring Food Drive</span><br />\n<span style="font-size:16px\;">March 7 - March 27\, 2020</span><br />\n<br />\n<span style="color: rgb(29\, 33\, 41)\; font-family: Helvetica\, Arial\, sans-serif\; font-size: 14px\; white-space: pre-wrap\;">Now in its sixth year\, this annual food drive is made possible through support from the Chamber&rsquo\;s members\, local merchants\, area schools\, banks and more.</span><br style="color: rgb(29\, 33\, 41)\; font-family: Helvetica\, Arial\, sans-serif\; font-size: 14px\; white-space: pre-wrap\;" />\n<br style="color: rgb(29\, 33\, 41)\; font-family: Helvetica\, Arial\, sans-serif\; font-size: 14px\; white-space: pre-wrap\;" />\n<span style="color: rgb(29\, 33\, 41)\; font-family: Helvetica\, Arial\, sans-serif\; font-size: 14px\; white-space: pre-wrap\;">This year\, due to the impact of coronavirus and numerous business closures\, we are urging the community to donate non-perishable food items and/or monetary contributions directly to the Back Mountain Food Pantry. Many individuals and families in our area will need help more than ever. Let&#39\;s step up together and be part of something positive!</span><br style="color: rgb(29\, 33\, 41)\; font-family: Helvetica\, Arial\, sans-serif\; font-size: 14px\; white-space: pre-wrap\;" />\n<br style="color: rgb(29\, 33\, 41)\; font-family: Helvetica\, Arial\, sans-serif\; font-size: 14px\; white-space: pre-wrap\;" />\n<span style="color: rgb(29\, 33\, 41)\; font-family: Helvetica\, Arial\, sans-serif\; font-size: 14px\; white-space: pre-wrap\;">Please deliver food and monetary donations directly to the Back Mountain Food Pantry (40 Knob Hill\, Trucksville) during regular business hours (Tues + Thurs + Fri: 10am &ndash\; 12pm).</span><br style="color: rgb(29\, 33\, 41)\; font-family: Helvetica\, Arial\, sans-serif\; font-size: 14px\; white-space: pre-wrap\;" />\n<br style="color: rgb(29\, 33\, 41)\; font-family: Helvetica\, Arial\, sans-serif\; font-size: 14px\; white-space: pre-wrap\;" />\n<span style="color: rgb(29\, 33\, 41)\; font-family: Helvetica\, Arial\, sans-serif\; font-size: 14px\; white-space: pre-wrap\;">At this time\, we ask that you do not bring food to the locations below\, but we would like to acknowledge the following businesses that were actively participating as drop off locations before coronavirus thwarted our plans. </span><br />\n<span style="font-size:14px\;"><span style="font-family:arial\;">&nbsp\;<br />\nCollection locations include: </span></span>\n<ul>\n	<li><span style="font-size:14px\;"><span style="font-family:arial\;">415 Pro Hardware (Dallas)</span></span></li>\n	<li><span style="font-size:14px\;"><span style="font-family:arial\;">AMP Global Strategies (Shavertown)</span></span></li>\n	<li><span style="font-size:14px\;"><span style="font-family:arial\;">A-s Cutting Crew (Dallas)</span></span></li>\n	<li><span style="font-size:14px\;"><span style="font-family:arial\;">Back Mountain Chamber Office (Dallas)</span></span></li>\n	<li><span style="font-size:14px\;"><span style="font-family:arial\;">Back Mountain Memorial Library (Dallas)</span></span></li>\n	<li><span style="font-size:14px\;"><span style="font-family:arial\;">Bernie&#39\;s Pizza (Dallas)</span></span></li>\n	<li><span style="font-size:14px\;"><span style="font-family:arial\;">Chris&#39\;s Auto Repair (Dallas)</span></span></li>\n	<li><span style="font-size:14px\;"><span style="font-family:arial\;">Dallas Auto Parts (Dallas)</span></span></li>\n	<li><span style="font-size:14px\;"><span style="font-family:arial\;">Dallas Elementary (Dallas)</span></span></li>\n	<li><span style="font-size:14px\;"><span style="font-family:arial\;">Dallas High School (Dallas)</span></span></li>\n	<li><span style="font-size:14px\;"><span style="font-family:arial\;">Dallas Middle School (Dallas)</span></span></li>\n	<li><span style="font-size:14px\;"><span style="font-family:arial\;">Damien&#39\;s On The Lake</span></span></li>\n	<li><span style="font-size:14px\;"><span style="font-family:arial\;">Ecenrode Electric (Dallas)</span></span></li>\n	<li><span style="font-size:14px\;"><span style="font-family:arial\;">Family Hearing Center (Dallas)</span></span></li>\n	<li><span style="font-size:14px\;"><span style="font-family:arial\;">First Keystone Community Bank&nbsp\; (Dallas and Kingston Offices)</span></span></li>\n	<li><span style="font-size:14px\;"><span style="font-family:arial\;">FNCB Bank (Shavertown)</span></span></li>\n	<li><span style="font-size:14px\;"><span style="font-family:arial\;">Frontier&nbsp\;(Dallas)</span></span></li>\n	<li><span style="font-size:14px\;"><span style="font-family:arial\;">Hilbert&rsquo\;s Equipment &amp\; Welding\, Inc. (Dallas)</span></span></li>\n	<li><span style="font-size:14px\;"><span style="font-family:arial\;">I&rsquo\;m Big Now Preschool / Kindergarten (Shavertown)</span></span></li>\n	<li><span style="font-size:14px\;"><span style="font-family:arial\;">J&amp\;J Restaurant &amp\; Bar (Dallas)</span></span></li>\n	<li><span style="font-size:14px\;"><span style="font-family:arial\;">Jack Williams Tire (Dallas)</span></span></li>\n	<li><span style="font-size:14px\;"><span style="font-family:arial\;">Komensky&#39\;s Kielbasi (Dallas)</span></span></li>\n	<li><span style="font-size:14px\;"><span style="font-family:arial\;">Lake-Lehman Jr./Sr. High School (Lehman)</span></span></li>\n	<li><span style="font-size:14px\;"><span style="font-family:arial\;">Lake-Lehman Lake/Noxen Elementary (Lehman)</span></span></li>\n	<li><span style="font-size:14px\;"><span style="font-family:arial\;">Lake-Lehman Lehman/Jackson Elementary (Lehman)</span></span></li>\n	<li><span style="font-size:14px\;"><span style="font-family:arial\;">Lake-Lehman Ross Elementary (Lehman)</span></span></li>\n	<li><span style="font-size:14px\;"><span style="font-family:arial\;">Landmark Bank (Wyoming)</span></span></li>\n	<li><span style="font-size:14px\;"><span style="font-family:arial\;">Luzerne Bank (Dallas and Lake Offices)</span></span></li>\n	<li><span style="font-size:14px\;"><span style="font-family:arial\;">Melt Hot Yoga (Edwardsville)</span></span></li>\n	<li><span style="font-size:14px\;"><span style="font-family:arial\;">Michael Eckman Fitness (Dallas)</span></span></li>\n	<li><span style="font-size:14px\;"><span style="font-family:arial\;">Mosca Law (Kingston)</span></span></li>\n	<li><span style="font-size:14px\;"><span style="font-family:arial\;">NAPA Dallas Auto Parts (Dallas)</span></span></li>\n	<li><span style="font-size:14px\;"><span style="font-family:arial\;">NBT Bank (Shavertown)</span></span></li>\n	<li><span style="font-size:14px\;"><span style="font-family:arial\;">Penn State Wilkes-Barre (Dallas)</span></span></li>\n	<li><span style="font-size:14px\;"><span style="font-family:arial\;">Pizza Perfect (Trucksville)</span></span></li>\n	<li><span style="font-size:14px\;"><span style="font-family:arial\;">Pulverman (Dallas)</span></span></li>\n	<li><span style="font-size:14px\;"><span style="font-family:arial\;">Senator Lisa Baker&rsquo\;s Office (Dallas)</span></span></li>\n	<li><span style="font-size:14px\;"><span style="font-family:arial\;">Small Wonders Day Care (Shavertown)</span></span></li>\n	<li><span style="font-size:14px\;"><span style="font-family:arial\;">The Lands at Hillside Farms Dairy Store (Shavertown)</span></span></li>\n	<li><span style="font-size:14px\;"><span style="font-family:arial\;">The Medicine Shoppe (Dallas)</span></span></li>\n	<li><span style="font-size:14px\;"><span style="font-family:arial\;">The Westmoreland Club (Wilkes-Barre)</span></span></li>\n	<li><span style="font-size:14px\;"><span style="font-family:arial\;">Tom Ochman Coins &amp\; Jewelry (Dallas)</span></span></li>\n	<li><span style="font-size:14px\;"><span style="font-family:arial\;">Twin Stacks Golf Center (Dallas)</span></span></li>\n	<li><span style="font-size:14px\;"><span style="font-family:arial\;">Wild Birds Unlimited (Dallas)</span></span></li>\n	<li><span style="font-size:14px\;"><span style="font-family:arial\;"><span style="font-size: 14px\;"><span style="font-family: arial\;">Wycallis Primary Center&nbsp\;(Dallas)</span></span></span></span></li>\n</ul>\n<span style="color: rgb(29\, 33\, 41)\; font-family: Helvetica\, Arial\, sans-serif\; font-size: 14px\; white-space: pre-wrap\;">Members of the Back Mountain Chamber&rsquo\;s Food Drive Committee include: Stacia Arnaud\, Pam Bonomo (co-chair)\, Kristyn Ecenrode\, Amanda Faneck\, Jenny Hetro\, Doreen Johnson\, Donna Luksh\, Atty. Tom Mosca\, Chet Mozloom\, Bill Race\, Sandy Race (co-chair)\, Susan Slocum\, Cindy Thomas and Lew Thomas.</span><br />\n&nbsp\;
LOCATION:
UID:e.3296.261
SEQUENCE:3
DTSTAMP:20260424T035625Z
URL:https://business.backmountainchamber.org/events/details/back-mountain-chamber-annual-spring-food-drive-261
END:VEVENT

END:VCALENDAR
