BEGIN:VCALENDAR
VERSION:2.0
PRODID:-//ChamberMaster//Event Calendar 2.0//EN
METHOD:PUBLISH
X-PUBLISHED-TTL:P3D
REFRESH-INTERVAL:P3D
CALSCALE:GREGORIAN
BEGIN:VEVENT
DTSTART:20190721T140000Z
DTEND:20190721T160000Z
X-MICROSOFT-CDO-ALLDAYEVENT:FALSE
SUMMARY:Back Mountain Harvest Assembly Ribbon Cutting
DESCRIPTION:Back Mountain Harvest Assembly Ribbon Cutting\n\n                                       July 21\, 2019\n\n                              10:00 A.M. - 12:00 P.M.
X-ALT-DESC;FMTTYPE=text/html:<span style="color:#000080\;"><span style="font-size:16px\;"><span style="font-size:18px\;">&nbsp\; &nbsp\; Back Mountain Harvest Assembly Ribbon Cutting</span><br />\n&nbsp\; &nbsp\; &nbsp\; &nbsp\; &nbsp\; &nbsp\; &nbsp\; &nbsp\; &nbsp\; &nbsp\; &nbsp\; &nbsp\; &nbsp\; &nbsp\; &nbsp\; &nbsp\; &nbsp\; &nbsp\; &nbsp\; &nbsp\;July 21\, 2019<br />\n&nbsp\; &nbsp\; &nbsp\; &nbsp\; &nbsp\; &nbsp\; &nbsp\; &nbsp\; &nbsp\; &nbsp\; &nbsp\; &nbsp\; &nbsp\; &nbsp\; &nbsp\; 10:00 A.M. - 12:00 P.M.</span></span>
LOCATION:Back Mountain Harvest Assembly 340 Carverton Road Trucksville\, PA 18708
UID:e.3296.243
SEQUENCE:3
DTSTAMP:20260424T162823Z
URL:https://business.backmountainchamber.org/events/details/back-mountain-harvest-assembly-ribbon-cutting-243
END:VEVENT

END:VCALENDAR
