BEGIN:VCALENDAR
VERSION:2.0
PRODID:-//ChamberMaster//Event Calendar 2.0//EN
METHOD:PUBLISH
X-PUBLISHED-TTL:P3D
REFRESH-INTERVAL:P3D
CALSCALE:GREGORIAN
BEGIN:VEVENT
DTSTART:20191013T153000Z
DTEND:20191013T200000Z
X-MICROSOFT-CDO-ALLDAYEVENT:FALSE
SUMMARY:Back Mountain Memorial Library Designer Purse Bingo
DESCRIPTION:Designer Purse Bingo Admission includes 20 games. Extra Bingo cards sold at the door. Drinks & Food available for purchase. Prizes include purses\, 5 Disney day passes\, Sundance Vacation\,8 Days/7nights accommodations for up to 6 people at Myrtle Beach or Hilton Head\, S.C. Raffle Baskets/ 50/50 Raffle. Door prizes.
X-ALT-DESC;FMTTYPE=text/html:Designer Purse Bingo Admission includes 20 games. Extra Bingo cards sold at the door. Drinks &amp\; Food available for purchase. Prizes include purses\, 5 Disney day passes\, Sundance Vacation\,8 Days/7nights accommodations for up to 6 people at Myrtle Beach or Hilton Head\, S.C. Raffle Baskets/ 50/50 Raffle. Door prizes.
LOCATION:Dallas High School 2030 Conyngham Ave\,Dallas\, PA \,Dallas\, PA
UID:e.3296.274
SEQUENCE:3
DTSTAMP:20260424T110850Z
URL:https://business.backmountainchamber.org/events/details/back-mountain-memorial-library-designer-purse-bingo-274
END:VEVENT

END:VCALENDAR
