BEGIN:VCALENDAR
VERSION:2.0
PRODID:-//ChamberMaster//Event Calendar 2.0//EN
METHOD:PUBLISH
X-PUBLISHED-TTL:P3D
REFRESH-INTERVAL:P3D
CALSCALE:GREGORIAN
BEGIN:VEVENT
DTSTART:20190928T110000Z
DTEND:20190928T170000Z
X-MICROSOFT-CDO-ALLDAYEVENT:FALSE
SUMMARY:Back Mountain Revolution Member Appreciation Party
DESCRIPTION:BACK MOUNTAIN REVOLUTION\n\n                                   is having a \n\n           Member Appreciation Party\n\n                  and Ribbon Cutting\n\n\n\n                   Saturday\, September 28th\n\n                       7:00 AM - 1:00 PM\n\n\n\n               Ribbon Cutting at 11:30 AM
X-ALT-DESC;FMTTYPE=text/html:<span style="font-size:22px\;">&nbsp\; &nbsp\; &nbsp\; &nbsp\;<br />\n&nbsp\; &nbsp\;BACK MOUNTAIN REVOLUTION</span><br />\n&nbsp\; &nbsp\; &nbsp\; &nbsp\; &nbsp\; &nbsp\; &nbsp\; &nbsp\; &nbsp\; &nbsp\; &nbsp\; &nbsp\; &nbsp\; &nbsp\; &nbsp\; &nbsp\; &nbsp\; &nbsp\;<span style="font-size:14px\;">is having a&nbsp\;</span><br />\n<span style="font-size: 20px\;">&nbsp\; &nbsp\; &nbsp\; &nbsp\; &nbsp\; &nbsp\;<span style="font-size:22px\;">Member Appreciation Party</span><br />\n&nbsp\; &nbsp\; &nbsp\; &nbsp\; &nbsp\; &nbsp\; &nbsp\; &nbsp\; &nbsp\; <span style="font-size:18px\;">and</span> <span style="font-size:22px\;">Ribbon Cutting</span></span><br />\n<br />\n<span style="font-size:18px\;">&nbsp\; &nbsp\; &nbsp\; &nbsp\; &nbsp\; &nbsp\; &nbsp\; &nbsp\; &nbsp\; &nbsp\;Saturday\, September 28th<br />\n&nbsp\; &nbsp\; &nbsp\; &nbsp\; &nbsp\; &nbsp\; &nbsp\; &nbsp\; &nbsp\; &nbsp\; &nbsp\; &nbsp\;7:00 AM - 1:00 PM<br />\n<br />\n&nbsp\; &nbsp\; &nbsp\; &nbsp\; &nbsp\; &nbsp\; &nbsp\; &nbsp\;Ribbon Cutting at 11:30 AM&nbsp\; &nbsp\; &nbsp\;</span>
LOCATION:Back Mountain Revolution 106 S. Lehigh Street Shavertown\, PA 18708
UID:e.3296.251
SEQUENCE:3
DTSTAMP:20260424T123204Z
URL:https://business.backmountainchamber.org/events/details/back-mountain-revolution-member-appreciation-party-251
END:VEVENT

END:VCALENDAR
