BEGIN:VCALENDAR
VERSION:2.0
PRODID:-//ChamberMaster//Event Calendar 2.0//EN
METHOD:PUBLISH
X-PUBLISHED-TTL:P3D
REFRESH-INTERVAL:P3D
CALSCALE:GREGORIAN
BEGIN:VEVENT
DTSTART:20251004T190000Z
DTEND:20251004T230000Z
X-MICROSOFT-CDO-ALLDAYEVENT:FALSE
SUMMARY:Bands at The Lands! Chase Who Band at Hillside Pavilion
DESCRIPTION:Saturday\, October 4 from 3PM - 7PM! Join us at Hillside Pavilion for HOURS of great music and fun. ????We will have activities for small children\, fire pits for marshmallows & s'mores ??\, and a few other cool attractions ??. Bring a chair or blanket and plan on spending your afternoon ??and evening at the farm!
X-ALT-DESC;FMTTYPE=text/html:Saturday\, October 4 from 3PM - 7PM! Join us at Hillside Pavilion for HOURS of great music and fun. ????We will have activities for small children\, fire pits for marshmallows &amp\; s&#39\;mores ??\, and a few other cool attractions ??. Bring a chair or blanket and plan on spending your afternoon ??and evening at the farm!
LOCATION:Hillside Pavilion
UID:e.3296.1148
SEQUENCE:3
DTSTAMP:20260423T021857Z
URL:https://business.backmountainchamber.org/events/details/bands-at-the-lands-chase-who-band-at-hillside-pavilion-1148
END:VEVENT

END:VCALENDAR
