BEGIN:VCALENDAR
VERSION:2.0
PRODID:-//ChamberMaster//Event Calendar 2.0//EN
METHOD:PUBLISH
X-PUBLISHED-TTL:P3D
REFRESH-INTERVAL:P3D
CALSCALE:GREGORIAN
BEGIN:VEVENT
DTSTART:20191113T224500Z
DTEND:20191114T010000Z
X-MICROSOFT-CDO-ALLDAYEVENT:FALSE
SUMMARY:BMC Pre-Holiday Dinner and Gathering
DESCRIPTION:Pre-Holiday Dinner Gathering for Chamber members and Friends!\n\n\n\nNovember 13\, 2019\n\n\n\n5:45- 9:30 pm\n\n\n\nHuntsville Golf Club\n\n\n\n$35.00 per person for BMC chamber members\n\n$45.00 non-members\n\n\n\n\n\n\n\nRSVP TO:\n\nbmcbussdev@gmail.com\n\nor call (570)675-9380
X-ALT-DESC;FMTTYPE=text/html:<div style="text-align: center\;"><br />\n<span style="font-family: sans-serif\, Arial\, Verdana\, &quot\;Trebuchet MS&quot\;\; font-size: 13px\; color: rgb(255\, 0\, 0)\;"><span style="font-size: 18px\;"><span style="font-family: &quot\;times new roman&quot\;\;"><span style="font-size:20px\;"><strong>Pre-Holiday Dinner Gathering for Chamber members and Friends!</strong></span><br />\n<br />\nNovember 13\, 2019<br />\n<br />\n5:45- 9:30 pm<br />\n<br />\nHuntsville Golf Club<br />\n<br />\n$35.00 per person for BMC chamber members<br />\n$45.00 non-members<br />\n<br />\n<br />\n<br />\nRSVP TO:<br />\nbmcbussdev@gmail.com<br />\nor call (570)675-9380</span></span></span></div>\n
LOCATION:Huntsville Golf Club
UID:e.3296.209
SEQUENCE:3
DTSTAMP:20260424T094620Z
URL:https://business.backmountainchamber.org/events/details/bmc-pre-holiday-dinner-and-gathering-209
END:VEVENT

END:VCALENDAR
