BEGIN:VCALENDAR
VERSION:2.0
PRODID:-//ChamberMaster//Event Calendar 2.0//EN
METHOD:PUBLISH
X-PUBLISHED-TTL:P3D
REFRESH-INTERVAL:P3D
CALSCALE:GREGORIAN
BEGIN:VEVENT
DTSTART:20200126T000000Z
DTEND:20200126T033000Z
X-MICROSOFT-CDO-ALLDAYEVENT:FALSE
SUMMARY:Casino Night at Damien's
DESCRIPTION:BMC Casino Night at Damien's \n\nBack Mountain Chamber New Year Celebration\n\n01.25.20   \n\n7-10:30 PM
X-ALT-DESC;FMTTYPE=text/html:<p><span style="font-size:16px\;"><span style="font-family:tahoma\;">BMC Casino Night at Damien&#39\;s&nbsp\;<br />\nBack Mountain Chamber New Year Celebration<br />\n01.25.20&nbsp\; &nbsp\;<br />\n7-10:30 PM</span></span><br />\n<br />\n&nbsp\;</p>\n
LOCATION:Damien's on the Lake 31 Lakeside Dr\, Harveys Lake\, PA 18618
UID:e.3296.294
SEQUENCE:3
DTSTAMP:20260424T081151Z
URL:https://business.backmountainchamber.org/events/details/casino-night-at-damien-s-294
END:VEVENT

END:VCALENDAR
