BEGIN:VCALENDAR
VERSION:2.0
PRODID:-//ChamberMaster//Event Calendar 2.0//EN
METHOD:PUBLISH
X-PUBLISHED-TTL:P3D
REFRESH-INTERVAL:P3D
CALSCALE:GREGORIAN
BEGIN:VEVENT
DTSTART:20200212T163000Z
DTEND:20200212T183000Z
X-MICROSOFT-CDO-ALLDAYEVENT:FALSE
SUMMARY:Chamber Luncheon: "Health is Wealth" at Irem Clubhouse
DESCRIPTION:Members and non-members are invited to join us for our first luncheon of 2020 on Wednesday\, February 12 from 11:30am - 1:30pm at Irem Clubhouse (64 Ridgway Drive\, Dallas). Robert Stanley of Community Bank will speak about financial health and wellbeing and Chris Fazzi will take attendees through a short mindfulness exercise. Thank you to Community Bank\, N.A.\, our luncheon sponsor!\n \n\nMenu includes: Caesar Salad\, Balsamic Chicken\, Skewered Shrimp\, Rice Pilaf\, Vegetable\, Tortellini Salad\, Desserts\, Coffee\, Iced Tea and Fountain Drinks.\n \n\nTickets are $20 per person and can be purchased online or by calling (570) 675-9380. Tickets will not be available at the door.\n\n \nRobert L. Stanley\, Financial Consultant\, Community Bank\n\nA Magna Cum Laude graduate of King's College with a degree in Political Science and Economics\, Bob has 20 years of experience delivering sound advice to his clients.  He began his financial career in management\, became a Vice President with PNC Wealth Management and formed an investment group with Merrill Lynch. Bob currently holds a variety of professional licenses including: Series 7\, Series 66\, Series 63 Life\, Accident and Health Insurance as well as Property and Casualty\, and his LUTCF designation. Bob is a lifelong resident of the Wyoming Valley and is extremely active in the community serving on a variety of Boards of Directors and Advisory Committees. Bob works with a team of highly skilled individuals at Community Investment Services to provide financial services that include: \n\n  Retirement Planning\n\n  Estate Planning\n\n  College Funding\n\n  Investment Planning\n\n  Insurance Services\n\n\nChris Fazzi will be sharing tips on how to begin your wellness journey through a short mindfulness exercise. Chris Fazzi is a Certified Personal Trainer and Wellness Coach. Chris also has a certification as a Cancer Exercise Specialist\, and she uses her training to assist Cancer Survivors reach specific goals at Candy's Place. Candy's Place is a Cancer Wellness Center in Forty Fort. Chris also uses her training to facilitate programs within the Chronic Disease Prevention department at the Wilkes-Barre YMCA. Chris has spent the past 20+ years making healthier lifestyle changes herself and is looking forward to sharing her knowledge of this with you.
X-ALT-DESC;FMTTYPE=text/html:<div dir="ltr" style="line-height: 1.38\; margin-top: 0pt\; margin-bottom: 0pt\;"><span style="font-size: 14px\;"><span id="docs-internal-guid-58d3c587-7fff-0190-4f28-5304112afbcc"><span style="color: rgb(0\, 0\, 0)\; font-variant-numeric: normal\; font-variant-east-asian: normal\; vertical-align: baseline\; white-space: pre-wrap\;">Members and non-members are invited to join us for our first luncheon of 2020 on <strong>Wednesday\, February 12 from 11:30am - 1:30pm at Irem Clubhouse</strong> (</span></span><span class="LrzXr" style="color: rgb(34\, 34\, 34)\; font-family: Roboto\, arial\, sans-serif\;">64 Ridgway Drive\, Dallas</span><span style="color: rgb(0\, 0\, 0)\; font-variant-numeric: normal\; font-variant-east-asian: normal\; vertical-align: baseline\; white-space: pre-wrap\;">). <strong>Robert Stanley</strong> of Community Bank will speak about financial health and wellbeing and <strong>Chris Fazzi </strong>will take attendees through a short mindfulness exercise. Thank you to <strong>Community Bank\, N.A.</strong>\, our luncheon sponsor!</span></span></div>\n&nbsp\;\n\n<div dir="ltr" style="line-height: 1.38\; margin-top: 0pt\; margin-bottom: 0pt\;"><span style="font-size: 14px\;"><span id="docs-internal-guid-58d3c587-7fff-0190-4f28-5304112afbcc"><span style="color: rgb(0\, 0\, 0)\; background-color: transparent\; font-weight: 700\; font-variant-numeric: normal\; font-variant-east-asian: normal\; vertical-align: baseline\; white-space: pre-wrap\;">Menu includes: </span><span style="color: rgb(0\, 0\, 0)\; background-color: transparent\; font-variant-numeric: normal\; font-variant-east-asian: normal\; vertical-align: baseline\; white-space: pre-wrap\;">Caesar Salad\, Balsamic Chicken\, Skewered Shrimp\, Rice Pilaf\, Vegetable\, Tortellini Salad\, Desserts\, Coffee\, Iced Tea and Fountain Drinks.</span></span></span></div>\n&nbsp\;\n\n<div dir="ltr" style="line-height: 1.38\; margin-top: 0pt\; margin-bottom: 0pt\;"><span style="font-size: 14px\;"><span id="docs-internal-guid-58d3c587-7fff-0190-4f28-5304112afbcc"><span style="color: rgb(0\, 0\, 0)\; background-color: transparent\; font-variant-numeric: normal\; font-variant-east-asian: normal\; vertical-align: baseline\; white-space: pre-wrap\;">Tickets are $20 per person and can be purchased online or by calling (570) 675-9380. Tickets will not be available at the door.</span></span></span></div>\n\n<div>&nbsp\;</div>\n<span style="font-size: 14px\;"><strong>Robert L. Stanley\, Financial Consultant\, Community Bank</strong><br />\nA Magna Cum Laude graduate of King&rsquo\;s College with a degree in Political Science and Economics\, Bob has 20 years of experience delivering sound advice to his clients.&nbsp\; He began his financial career in management\, became a Vice President with PNC Wealth Management and formed an investment group with Merrill Lynch. Bob currently holds a variety of professional licenses including: Series 7\, Series 66\, Series 63 Life\, Accident and Health Insurance as well as Property and Casualty\, and his LUTCF designation. Bob is a lifelong resident of the Wyoming Valley and is extremely active in the community serving on a variety of Boards of Directors and Advisory Committees. Bob works with a team of highly skilled individuals at Community Investment Services to provide financial services that include:&nbsp\;</span>\n\n<div><span style="font-size: 14px\;">&bull\;<span style="white-space: pre\;"> </span>Retirement Planning</span></div>\n\n<div><span style="font-size: 14px\;">&bull\;<span style="white-space: pre\;"> </span>Estate Planning</span></div>\n\n<div><span style="font-size: 14px\;">&bull\;<span style="white-space: pre\;"> </span>College Funding</span></div>\n\n<div><span style="font-size: 14px\;">&bull\;<span style="white-space: pre\;"> </span>Investment Planning</span></div>\n\n<div><span style="font-size: 14px\;">&bull\;<span style="white-space: pre\;"> </span>Insurance Services</span></div>\n<br />\n<span style="font-size: 14px\;"><strong>Chris Fazzi</strong>&nbsp\;will be sharing tips on how to begin your wellness journey through a short mindfulness exercise. Chris Fazzi is a Certified Personal Trainer and Wellness Coach. Chris also has a certification as a Cancer Exercise Specialist\, and she uses her training to assist Cancer Survivors reach specific goals at Candy&rsquo\;s Place. Candy&rsquo\;s Place is a Cancer Wellness Center in Forty Fort. Chris also uses her training to facilitate programs within the Chronic Disease Prevention department at the Wilkes-Barre YMCA. Chris has spent the past 20+ years making healthier lifestyle changes herself and is looking forward to sharing her knowledge of this with you.</span>
LOCATION:
UID:e.3296.297
SEQUENCE:3
DTSTAMP:20260424T052652Z
URL:https://business.backmountainchamber.org/events/details/chamber-luncheon-health-is-wealth-at-irem-clubhouse-297
END:VEVENT

END:VCALENDAR
