BEGIN:VCALENDAR
VERSION:2.0
PRODID:-//ChamberMaster//Event Calendar 2.0//EN
METHOD:PUBLISH
X-PUBLISHED-TTL:P3D
REFRESH-INTERVAL:P3D
CALSCALE:GREGORIAN
BEGIN:VEVENT
DTSTART:20230713T183000Z
DTEND:20230713T203000Z
X-MICROSOFT-CDO-ALLDAYEVENT:FALSE
SUMMARY:Chasing the Train Cell Phone Workshop
DESCRIPTION:Oren will share the stories of how he captures the trains in his photography while participants hone their own composition and timing skills with our in-gallery model railroad. Recommended for ages 12 and up. Preregistration is required\, but space is limited.
X-ALT-DESC;FMTTYPE=text/html:Oren will share the stories of how he captures the trains in his photography while participants hone their own composition and timing skills with our in-gallery model railroad. Recommended for ages 12 and up. Preregistration is required\, but space is limited.
LOCATION:Pauly Friedman Art Gallery at Misericordia University
UID:e.3296.853
SEQUENCE:3
DTSTAMP:20260421T095905Z
URL:https://business.backmountainchamber.org/events/details/chasing-the-train-cell-phone-workshop-853
END:VEVENT

END:VCALENDAR
