BEGIN:VCALENDAR
VERSION:2.0
PRODID:-//ChamberMaster//Event Calendar 2.0//EN
METHOD:PUBLISH
X-PUBLISHED-TTL:P3D
REFRESH-INTERVAL:P3D
CALSCALE:GREGORIAN
BEGIN:VEVENT
DTSTART:20220603T230000Z
DTEND:20220604T010000Z
X-MICROSOFT-CDO-ALLDAYEVENT:FALSE
SUMMARY:Cheers\, Queers! At River Grille
DESCRIPTION:Kick off Pride Month with another round of our happy hour\, Cheers\, Queers! Join us at River Grille in Wilkes-Barre starting at 7PM! Mix\, mingle\, and enjoy their Pride cocktail menu! Event is free to attend. Attendees pay for their own food and drinks!
X-ALT-DESC;FMTTYPE=text/html:Kick off Pride Month with another round of our happy hour\, Cheers\, Queers! Join us at River Grille in Wilkes-Barre starting at 7PM! Mix\, mingle\, and enjoy their Pride cocktail menu! Event is free to attend. Attendees pay for their own food and drinks!
LOCATION:River Grille 670 N River St\, Wilkes-Barre\, PA 18702
UID:e.3296.756
SEQUENCE:3
DTSTAMP:20260422T051101Z
URL:https://business.backmountainchamber.org/events/details/cheers-queers-at-river-grille-756
END:VEVENT

END:VCALENDAR
