BEGIN:VCALENDAR
VERSION:2.0
PRODID:-//ChamberMaster//Event Calendar 2.0//EN
METHOD:PUBLISH
X-PUBLISHED-TTL:P3D
REFRESH-INTERVAL:P3D
CALSCALE:GREGORIAN
BEGIN:VEVENT
DTSTART:20200125T170000Z
DTEND:20200125T200000Z
X-MICROSOFT-CDO-ALLDAYEVENT:FALSE
SUMMARY:Chili Cookout at Hillside Farms
DESCRIPTION:Enjoy a great meal at the farm! We'll be serving a bowl of chili made with Hillside's own 100% grass-fed\, pasture-raised beef\, with one side & one beverage. $10
X-ALT-DESC;FMTTYPE=text/html:Enjoy a great meal at the farm! We&#39\;ll be serving a bowl of chili made with Hillside&#39\;s own 100% grass-fed\, pasture-raised beef\, with one side &amp\; one beverage. $10
LOCATION:The Lands at Hillside Farms
UID:e.3296.303
SEQUENCE:3
DTSTAMP:20260424T081904Z
URL:https://business.backmountainchamber.org/events/details/chili-cookout-at-hillside-farms-303
END:VEVENT

END:VCALENDAR
