BEGIN:VCALENDAR
VERSION:2.0
PRODID:-//ChamberMaster//Event Calendar 2.0//EN
METHOD:PUBLISH
X-PUBLISHED-TTL:P3D
REFRESH-INTERVAL:P3D
CALSCALE:GREGORIAN
BEGIN:VEVENT
DTSTART:20190915T160000Z
DTEND:20190915T210000Z
X-MICROSOFT-CDO-ALLDAYEVENT:FALSE
SUMMARY:Dallas Harvest Festival
DESCRIPTION:Dallas Harvest Festival\n\nSunday September 15\, 2019\n\nNoon - 5:00 PM
X-ALT-DESC;FMTTYPE=text/html:<span style="font-size:22px\;">Dallas Harvest Festival<br />\nSunday September 15\, 2019<br />\nNoon - 5:00 PM</span><br />\n&nbsp\;
LOCATION:Dallas High School Parking Lot Hildebrandt Road Dallas\, PA
UID:e.3296.259
SEQUENCE:3
DTSTAMP:20260424T123211Z
URL:https://business.backmountainchamber.org/events/details/dallas-harvest-festival-259
END:VEVENT

END:VCALENDAR
