BEGIN:VCALENDAR
VERSION:2.0
PRODID:-//ChamberMaster//Event Calendar 2.0//EN
METHOD:PUBLISH
X-PUBLISHED-TTL:P3D
REFRESH-INTERVAL:P3D
CALSCALE:GREGORIAN
BEGIN:VEVENT
DTSTART;VALUE=DATE:20221023
DTEND;VALUE=DATE:20221024
TRANSP:TRANSPARENT
X-MICROSOFT-CDO-ALLDAYEVENT:TRUE
SUMMARY:Dallas Kiwanis Annual Halloween Party & Parade
DESCRIPTION:Kiwanis Club of Dallas PA will hold its annual Halloween Party and Parade for children - day care through middle school - on Sunday\, October 23\, 2022\, in the Dallas Little League Field parking area\, located on Church Street\, Dallas\, PA. This is a rain or shine event.  Dress appropriately for weather conditions in the outdoor Parade.  Registration and entertainment by Charlie Hayes begin at 1 P. M.  Individuals and groups will be judged at 2 P. M.\, during the Parade.\n\n \n\n\n12 P. M. - Costume Baseball Game (optional participation)\n\n  1 P. M. - Costume Registration and Entertainment\n\n  2 P. M. - Parade/Party/Awarding of Prizes\n\n\n \n\nIn the event of inclement weather\, the parade and judging will move inside the Back Mountain. Regional Fire Station 121\, located at the intersection of 184 East Center Hill Road and Church Street\, Dallas\, PA  18612  (across from the Dallas Little League Field).  NOTE:  For indoor activities\, masks are required for all attendees.\n\n \n\n12 P. M. - Costume Baseball Game:  Once registered\, children will be invited to participate in a variety of activities\, including a baseball game played in costume on the Little League field (Pre-registration for the game is required by clicking on the online link:  https://forms.gle/UmdSEaBniFjWijJE7 ). The game will start at noon and end in time for Parade Registration at 1 P. M.  This game is meant for children of all levels and skill sets to come and play a game in costume.  It will be run by members of the Back Mountain Little League.\n\n \n\nChildren will\, also\, be treated to a visit from some Disney and movie "characters" and other great surprises!  Prizes:  Monetary prizes will be awarded for the top three winners in each of the six costume categories:  Funniest\, Most Original\, Prettiest\, Scariest\, Miscellaneous\, and Best Group (Best Group category must have 3+ participants.).  Light refreshments will be available and goodie bags distributed for the children. Tickets will be sold for additional raffle gift prizes. \n\n \n\nFor over 60 years\, Dallas Kiwanis Club has hosted this amazing annual Halloween event in the Back Mountain for area youths.  Bring your children and come join the fun!
X-ALT-DESC;FMTTYPE=text/html:<div style="color: rgb(34\, 34\, 34)\; font-family: Arial\, Helvetica\, sans-serif\; font-size: small\;"><span style="font-size:16px\;"><span style="font-family:arial\;">Kiwanis Club of Dallas PA will hold its annual&nbsp\;Halloween&nbsp\;Party and Parade for children - day care through middle school -&nbsp\;on&nbsp\;Sunday\, October 23\, 2022\, in the Dallas&nbsp\;Little League Field parking area\, located on Church Street\, Dallas\, PA.&nbsp\;<span comic="" font-size:="" sans="">This is a rain or shine event.&nbsp\; Dress appropriately for weather conditions in the outdoor Parade.&nbsp\;&nbsp\;Registration and entertainment by Charlie Hayes begin at 1 P. M.&nbsp\; Individuals and groups will be judged at 2 P. M.\, during the Parade.</span></span></span></div>\n\n<div style="color: rgb(34\, 34\, 34)\; font-family: Arial\, Helvetica\, sans-serif\; font-size: small\;">&nbsp\;</div>\n\n<div style="color: rgb(34\, 34\, 34)\; font-family: Arial\, Helvetica\, sans-serif\; font-size: small\;">\n<div><span style="font-size:16px\;"><span style="font-family:arial\;"><span comic="" sans="">12 P. M. - Costume Baseball Game (optional participation)</span></span></span></div>\n\n<div><span style="font-size:16px\;"><span style="font-family:arial\;"><span comic="" sans="">&nbsp\; 1 P. M. - Costume Registration and Entertainment</span></span></span></div>\n\n<div><span style="font-size:16px\;"><span style="font-family:arial\;"><span comic="" sans="">&nbsp\; 2 P. M. - Parade/Party/Awarding of Prizes</span></span></span></div>\n</div>\n\n<div style="color: rgb(34\, 34\, 34)\; font-family: Arial\, Helvetica\, sans-serif\; font-size: small\;">&nbsp\;</div>\n\n<div style="color: rgb(34\, 34\, 34)\; font-family: Arial\, Helvetica\, sans-serif\; font-size: small\;"><span style="font-size:16px\;"><span style="font-family:arial\;">In the event of inclement weather\, the parade and judging will move inside the Back Mountain. Regional Fire Station 121\, located<span comic="" sans="">&nbsp\;at the intersection of 184 East Center Hill Road and Church Street\, Dallas\, PA&nbsp\; 18612&nbsp\; (across from the Dallas Little League Field).&nbsp\;&nbsp\;</span><u comic="" sans="" style="font-size: large\; font-family: ">NOTE</u><span comic="" sans="">:&nbsp\; For indoor activities\, masks are required for all attendees.</span></span></span></div>\n\n<div style="color: rgb(34\, 34\, 34)\; font-family: Arial\, Helvetica\, sans-serif\; font-size: small\;">&nbsp\;</div>\n\n<div style="color: rgb(34\, 34\, 34)\; font-family: Arial\, Helvetica\, sans-serif\; font-size: small\;"><span style="font-size:16px\;"><span style="font-family:arial\;"><span comic="" sans="">12 P. M. - Costume Baseball Game:&nbsp\; Once registered\, children will be invited to participate in a variety of activities\, including a baseball game played in costume on the Little League field (<strong>Pre-registration for the game is required by clicking on the online link</strong>:&nbsp\;&nbsp\;<a data-saferedirecturl="https://www.google.com/url?q=https://forms.gle/UmdSEaBniFjWijJE7&amp\;source=gmail&amp\;ust=1665159024465000&amp\;usg=AOvVaw3Qqgb9iyHjoG2f6QMe2rFa" href="https://forms.gle/UmdSEaBniFjWijJE7" rel="noreferrer" style="color: rgb(17\, 85\, 204)\;" target="_blank">https://forms.gle/<wbr />UmdSEaBniFjWijJE7</a>&nbsp\;). The game will start at noon and end in time for Parade Registration at 1 P. M.&nbsp\; This game is meant for children of all levels and skill sets to come and play a game in costume.&nbsp\; It will be run by members of the Back Mountain Little League.</span></span></span></div>\n\n<div style="color: rgb(34\, 34\, 34)\; font-family: Arial\, Helvetica\, sans-serif\; font-size: small\;">&nbsp\;</div>\n\n<div style="color: rgb(34\, 34\, 34)\; font-family: Arial\, Helvetica\, sans-serif\; font-size: small\;"><span style="font-size:16px\;"><span style="font-family:arial\;"><span comic="" font-size:="" sans="">Children will\, also\, be treated to a visit from some Disney and movie &quot\;characters&quot\; and other great surprises!&nbsp\;&nbsp\;</span><span comic="" sans="">Prizes:&nbsp\; Monetary p</span><span comic="" id="m_-1723715245006579558m_3160483417640026343m_68396629673320806m_4956705403290195921m_-3233097382566295287m_5139452949983179299m_1591178864964323184m_4990330805134039065m_8162178533818619553m_-1255156133898922927m_2581844992644728720m_5625788198900655584m_8023772412055954494m_6174089064411839958m_6975955471025828663gmail-m_-7438787267208260300m_3717042814951498466ox-48205fd449-gmail-m_-7748843079718328247gmail-m_-5525512787792090619gmail-m_7365275396751474795gmail-m_3889352781442048331gmail-m_2026513190194875478gmail-m_1240724644290341794gmail-m_-7260104136645620554gmail-m_-5213763151164373120gmail-m_2881549792445888991:1zu.ox-48205fd449-25" sans="">rizes</span><span comic="" sans="">&nbsp\;will be awarded for the top three winners in each of the six costume categories:&nbsp\; Funniest\,&nbsp\;Most Original\,&nbsp\;Prettiest\, Scariest\, Miscellaneous\, and Best Group (Best Group category must have 3+ participants.).&nbsp\; Light refreshments will be available and&nbsp\;</span><span comic="" id="m_-1723715245006579558m_3160483417640026343m_68396629673320806m_4956705403290195921m_-3233097382566295287m_5139452949983179299m_1591178864964323184m_4990330805134039065m_8162178533818619553m_-1255156133898922927m_2581844992644728720m_5625788198900655584m_8023772412055954494m_6174089064411839958m_6975955471025828663gmail-m_-7438787267208260300m_3717042814951498466ox-48205fd449-gmail-m_-7748843079718328247gmail-m_-5525512787792090619gmail-m_7365275396751474795gmail-m_3889352781442048331gmail-m_2026513190194875478gmail-m_1240724644290341794:2de.ox-48205fd449-38" sans="">goodie</span><span comic="" sans="">&nbsp\;bags distributed for the children. Tickets will be sold for additional raffle gift&nbsp\;</span><span comic="" id="m_-1723715245006579558m_3160483417640026343m_68396629673320806m_4956705403290195921m_-3233097382566295287m_5139452949983179299m_1591178864964323184m_4990330805134039065m_8162178533818619553m_-1255156133898922927m_2581844992644728720m_5625788198900655584m_8023772412055954494m_6174089064411839958m_6975955471025828663gmail-m_-7438787267208260300m_3717042814951498466ox-48205fd449-gmail-m_-7748843079718328247:3py.ox-48205fd449-17" sans="">prizes</span><span comic="" sans="">.&nbsp\;</span></span></span></div>\n\n<div style="color: rgb(34\, 34\, 34)\; font-family: Arial\, Helvetica\, sans-serif\; font-size: small\;">&nbsp\;</div>\n\n<div style="color: rgb(34\, 34\, 34)\; font-family: Arial\, Helvetica\, sans-serif\; font-size: small\;"><span style="font-size:16px\;"><span style="font-family:arial\;"><span comic="" sans="">For over 60 years\, Dallas&nbsp\;Kiwanis&nbsp\;Club has hosted this amazing annual&nbsp\;Halloween&nbsp\;event in the Back Mountain for area youths.&nbsp\; Bring your children and come join the fun!</span></span></span></div>\n\n<div>&nbsp\;</div>\n
LOCATION:Back Mountain Little League Field
UID:e.3296.793
SEQUENCE:3
DTSTAMP:20260421T233829Z
URL:https://business.backmountainchamber.org/events/details/dallas-kiwanis-annual-halloween-party-parade-793
END:VEVENT

END:VCALENDAR
