BEGIN:VCALENDAR
VERSION:2.0
PRODID:-//ChamberMaster//Event Calendar 2.0//EN
METHOD:PUBLISH
X-PUBLISHED-TTL:P3D
REFRESH-INTERVAL:P3D
CALSCALE:GREGORIAN
BEGIN:VEVENT
DTSTART:20260424T170000Z
DTEND:20260424T220000Z
X-MICROSOFT-CDO-ALLDAYEVENT:FALSE
SUMMARY:Dallas Rotary WINE & BREWFEST
DESCRIPTION:Join us on Saturday\, June 27\, 2026\, at the Luzerne County Fairgrounds from 1:00 pm to 6:00 pm for an afternoon full of flavor\, fun\, and community. Sample a wide variety of wines\, craft beers\, and handcrafted spirits from local wineries\, breweries\, and distilleries. Explore a vibrant marketplace of local crafters and unique goods\, and treat yourself to delicious offerings from top-notch food vendors.\n\n \n\nEnjoy live music and entertainment throughout the afternoon as you sip\, shop\, and savor with friends and family. Whether you're a wine connoisseur\, beer lover\, spirits enthusiast\, or just looking for a great day out\, there's something for everyone.\n\n \n\nVIP opens one hour earlier and has prefered parking\, access to the exclusive VIP Lounge area with light snacks and non-alcoholic beverages. Please note VIP is 21+ only!\n\n \n\nGeneral Admission gates open at 1:00 pm.\n\n \n\nDon't miss this exciting event that supports the Dallas Rotary Club and the Luzerne County Fair and brings our community together. See you there!
X-ALT-DESC;FMTTYPE=text/html:<p style="text-align:center"><span style="font-family:tahoma">Join us on&nbsp\;<strong>Saturday\, June 27\, 2026\,</strong>&nbsp\;at the&nbsp\;<strong>Luzerne County Fairgrounds</strong>&nbsp\;from&nbsp\;<strong>1:00 pm to 6:00 pm</strong>&nbsp\;for an afternoon full of flavor\, fun\, and community. Sample a wide variety of wines\, craft beers\, and handcrafted spirits from local wineries\, breweries\, and distilleries. Explore a vibrant marketplace of local crafters and unique goods\, and treat yourself to delicious offerings from top-notch food vendors.</span></p>\n\n<p style="text-align:center">&nbsp\;</p>\n\n<p style="text-align:center"><span style="font-family:tahoma">Enjoy live music and entertainment throughout the afternoon as you sip\, shop\, and savor with friends and family. Whether you&#39\;re a wine connoisseur\, beer lover\, spirits enthusiast\, or just looking for a great day out\, there&#39\;s something for everyone.</span></p>\n\n<p style="text-align:center">&nbsp\;</p>\n\n<p style="text-align:center"><span style="font-family:tahoma">VIP opens one hour earlier and has prefered parking\, access to the exclusive VIP Lounge area with light snacks and non-alcoholic beverages. Please note VIP is 21+ only!</span></p>\n\n<p style="text-align:center">&nbsp\;</p>\n\n<p style="text-align:center"><span style="font-family:tahoma">General Admission gates open at 1:00 pm.</span></p>\n\n<p style="text-align:center">&nbsp\;</p>\n\n<p style="text-align:center"><span style="font-family:tahoma">Don&rsquo\;t miss this exciting event that supports the Dallas Rotary Club and the Luzerne County Fair and brings our community together. See you there!</span></p>\n
LOCATION:Luzerne County Fairgrounds
UID:e.3296.1226
SEQUENCE:3
DTSTAMP:20260424T223758Z
URL:https://business.backmountainchamber.org/events/details/dallas-rotary-wine-brewfest-04-24-2026-1226
END:VEVENT

END:VCALENDAR
