BEGIN:VCALENDAR
VERSION:2.0
PRODID:-//ChamberMaster//Event Calendar 2.0//EN
METHOD:PUBLISH
X-PUBLISHED-TTL:P3D
REFRESH-INTERVAL:P3D
CALSCALE:GREGORIAN
BEGIN:VEVENT
DTSTART:20191207T220000Z
DTEND:20191208T010000Z
X-MICROSOFT-CDO-ALLDAYEVENT:FALSE
SUMMARY:Dallas Township Old Fashion Tree Lighting
DESCRIPTION:Dallas Township Old Fashion Christmas Tree Lighting\n\n                    Back Mountain Little League Lot\n\n                      Saturday\, December 7th\, 2019\n\n                          5:00 - 8:00 P.M.
X-ALT-DESC;FMTTYPE=text/html:<span style="font-size:22px\;">Dallas Township Old Fashion Christmas Tree Lighting</span><br />\n&nbsp\;&nbsp\;&nbsp\;&nbsp\;&nbsp\;&nbsp\;&nbsp\;&nbsp\;&nbsp\; &nbsp\;&nbsp\;&nbsp\;&nbsp\;&nbsp\;&nbsp\;&nbsp\;&nbsp\;&nbsp\; <span style="font-size:18px\;">Back Mountain Little League Lot</span><br />\n&nbsp\;&nbsp\;&nbsp\;&nbsp\;&nbsp\;&nbsp\;&nbsp\;&nbsp\;&nbsp\;&nbsp\;&nbsp\;&nbsp\;&nbsp\;&nbsp\;&nbsp\;&nbsp\;&nbsp\;&nbsp\;&nbsp\;&nbsp\;<span style="font-size:18px\;">&nbsp\; Saturday\, December 7th\, 2019<br />\n&nbsp\; &nbsp\; &nbsp\; &nbsp\; &nbsp\; &nbsp\; &nbsp\; &nbsp\; &nbsp\; &nbsp\; &nbsp\; &nbsp\; &nbsp\; 5:00 - 8:00 P.M.</span>
LOCATION:Back Mountain Little League Lot
UID:e.3296.244
SEQUENCE:3
DTSTAMP:20260424T083806Z
URL:https://business.backmountainchamber.org/events/details/dallas-township-old-fashion-tree-lighting-244
END:VEVENT

END:VCALENDAR
