BEGIN:VCALENDAR
VERSION:2.0
PRODID:-//ChamberMaster//Event Calendar 2.0//EN
METHOD:PUBLISH
X-PUBLISHED-TTL:P3D
REFRESH-INTERVAL:P3D
CALSCALE:GREGORIAN
BEGIN:VEVENT
DTSTART:20190806T220000Z
DTEND:20190807T010000Z
X-MICROSOFT-CDO-ALLDAYEVENT:FALSE
SUMMARY:Dallas Township Police Department First Annual National Night Out
DESCRIPTION:Dallas Township Police Department\n\n             Annual National Night Out Event
X-ALT-DESC;FMTTYPE=text/html:<span style="font-size:20px\;">&nbsp\; &nbsp\; &nbsp\; &nbsp\; &nbsp\; <span style="font-size:24px\;">&nbsp\;<strong>Dallas Township Police Department<br />\n&nbsp\; &nbsp\; &nbsp\; &nbsp\; &nbsp\; &nbsp\; &nbsp\;Annual National Night Out Event</strong></span></span><br />\n<br />\n&nbsp\;
LOCATION:Dallas High School Parking Lot
UID:e.3296.246
SEQUENCE:3
DTSTAMP:20260424T135749Z
URL:https://business.backmountainchamber.org/events/details/dallas-township-police-department-first-annual-national-night-out-246
END:VEVENT

END:VCALENDAR
