BEGIN:VCALENDAR
VERSION:2.0
PRODID:-//ChamberMaster//Event Calendar 2.0//EN
METHOD:PUBLISH
X-PUBLISHED-TTL:P3D
REFRESH-INTERVAL:P3D
CALSCALE:GREGORIAN
BEGIN:VEVENT
DTSTART:20191003T114500Z
DTEND:20191003T133000Z
X-MICROSOFT-CDO-ALLDAYEVENT:FALSE
SUMMARY:Executive Management Series Presents: Substance Use and Misuse in Our communities
DESCRIPTION:Please join Dr. Dale Jones\, Chancellor and Chief Academic Office\, Penn Sate Wilkes-Barre for the Fall 2019 Executive Management Series on Substance Use and Misuse in Our communities. Guest Speakers are Stephanie Lanza\,PhD\, Penn State Professor of Biobehavioral Health and Jennifer Kraschnewski\, MD\, MPH\, Associate Professor of Medicine\, Pediatrics and Public Health Sciences.
X-ALT-DESC;FMTTYPE=text/html:Please join Dr. Dale Jones\, Chancellor and Chief Academic Office\, Penn Sate Wilkes-Barre for the Fall 2019 Executive Management Series on Substance Use and Misuse in Our communities. Guest Speakers are Stephanie Lanza\,PhD\, Penn State Professor of Biobehavioral Health and Jennifer Kraschnewski\, MD\, MPH\, Associate Professor of Medicine\, Pediatrics and Public Health Sciences.
LOCATION:The Westmoreland Club 59 S. Franklin Street Wilkes-Barre\, PA 18701
UID:e.3296.277
SEQUENCE:3
DTSTAMP:20260424T110903Z
URL:https://business.backmountainchamber.org/events/details/executive-management-series-presents-substance-use-and-misuse-in-our-communities-277
END:VEVENT

END:VCALENDAR
