BEGIN:VCALENDAR
VERSION:2.0
PRODID:-//ChamberMaster//Event Calendar 2.0//EN
METHOD:PUBLISH
X-PUBLISHED-TTL:P3D
REFRESH-INTERVAL:P3D
CALSCALE:GREGORIAN
BEGIN:VEVENT
DTSTART:20250913T140000Z
DTEND:20250913T190000Z
X-MICROSOFT-CDO-ALLDAYEVENT:FALSE
SUMMARY:FALL CRAFT FAIR
DESCRIPTION:Fall is right around the corner! Join us at The Meadows on Saturday\, September 13 for our Annual Fall Craft Fair!\n\n \n\nEnjoy shopping from a variety of craft vendors\, a holiday decor sale\, homemade baked goods\, raffles and food!!\n\n \n\n*All proceeds generated by the Meadows Auxiliary benefits our Meadows residents*\n\n \n\nAny Questions\, please call Rachel @ 570-675-8600\n\n \n\nAll vendor registrations must go through Rachel directly - please do not respond to any comments on this event about vendor spaces being open.
X-ALT-DESC;FMTTYPE=text/html:<div><em><strong><span style="font-size:18px">Fall is right around the corner! Join us at The Meadows on Saturday\, September 13 for our Annual Fall Craft Fair!</span></strong></em><br />\n&nbsp\;</div>\n\n<div>Enjoy shopping from a variety of craft vendors\, a holiday decor sale\, homemade baked goods\, raffles and food!!<br />\n&nbsp\;</div>\n\n<div><span style="color:#FF0000"><strong><em>*All proceeds generated by the Meadows Auxiliary benefits our Meadows residents*</em></strong></span></div>\n\n<div>&nbsp\;</div>\n\n<div>Any Questions\, please call Rachel @ 570-675-8600<br />\n&nbsp\;</div>\n\n<div>All vendor registrations must go through Rachel directly - please do not respond to any comments on this event about vendor spaces being open.</div>\n
LOCATION:The Meadows Nursing & Rehab Center Pavilion - located behind building 4 E Center Hill Rd Dallas\, PA 18612
UID:e.3296.1128
SEQUENCE:3
DTSTAMP:20260423T021447Z
URL:https://business.backmountainchamber.org/events/details/fall-craft-fair-09-13-2025-1128
END:VEVENT

END:VCALENDAR
