BEGIN:VCALENDAR
VERSION:2.0
PRODID:-//ChamberMaster//Event Calendar 2.0//EN
METHOD:PUBLISH
X-PUBLISHED-TTL:P3D
REFRESH-INTERVAL:P3D
CALSCALE:GREGORIAN
BEGIN:VEVENT
DTSTART:20190929T160000Z
DTEND:20190929T210000Z
X-MICROSOFT-CDO-ALLDAYEVENT:FALSE
SUMMARY:Fall Fest at The Lands at Hillside Farms
DESCRIPTION:Fall Fest at The Lands at Hillside Farms\n\n                \n\n Please join us for Fall Fest\, a fun family weekend!\n\n                                \n\nSeptember 29th\, 2019\n\n12-5pm each day\n\n $10 per carload\n\n\n\nEntertainment\, food\, vendors\, animals\, games & so much more! If you have questions or are interested in being a vendor for this event\, please contact our Director of Events\, Guy at guy@hillsidefarms.org\n\n\n\n65 Hillside Rd\,\n\nShavertown\, PA 18708
X-ALT-DESC;FMTTYPE=text/html:<span style="font-size:22px\;"><span style="color:#A52A2A\;"><strong><em>&nbsp\;<br />\nFall Fest at The Lands at Hillside Farms</em></strong></span></span><br />\n&nbsp\;&nbsp\;&nbsp\;&nbsp\;&nbsp\;&nbsp\;&nbsp\;&nbsp\;&nbsp\;&nbsp\;&nbsp\;&nbsp\;&nbsp\;&nbsp\;&nbsp\;&nbsp\;<br />\n<span style="color:#A52A2A\;">&nbsp\;<span style="font-size:16px\;">Please join us for Fall Fest\, a fun family weekend!<br />\n&nbsp\;&nbsp\;&nbsp\;&nbsp\;&nbsp\;&nbsp\;&nbsp\;&nbsp\;&nbsp\;&nbsp\;&nbsp\;&nbsp\;&nbsp\;&nbsp\;&nbsp\;&nbsp\;&nbsp\;&nbsp\;&nbsp\;&nbsp\;&nbsp\;&nbsp\;&nbsp\;&nbsp\;&nbsp\;&nbsp\;&nbsp\;&nbsp\;&nbsp\;&nbsp\;&nbsp\;&nbsp\;<br />\nSeptember 29th\, 2019<br />\n12-5pm each day<br />\n&nbsp\;$10 per carload<br />\n<br />\nEntertainment\, food\, vendors\, animals\, games &amp\; so much more! If you have questions or are interested in being a vendor for this event\, please contact our Director of Events\, Guy at guy@hillsidefarms.org<br />\n<br />\n65 Hillside Rd\,<br />\nShavertown\, PA 18708</span></span><br />\n&nbsp\;
LOCATION:The Lands at Hillside Farms 65 Hillside Road Shavertown\, Pa 18708
UID:e.3296.269
SEQUENCE:3
DTSTAMP:20260424T124242Z
URL:https://business.backmountainchamber.org/events/details/fall-fest-at-the-lands-at-hillside-farms-269
END:VEVENT

END:VCALENDAR
