BEGIN:VCALENDAR
VERSION:2.0
PRODID:-//ChamberMaster//Event Calendar 2.0//EN
METHOD:PUBLISH
X-PUBLISHED-TTL:P3D
REFRESH-INTERVAL:P3D
CALSCALE:GREGORIAN
BEGIN:VEVENT
DTSTART:20191020T170000Z
DTEND:20191020T210000Z
X-MICROSOFT-CDO-ALLDAYEVENT:FALSE
SUMMARY:Fall Festival at Huntsville Golf Club
DESCRIPTION:Fall Festival and Wing Sauce Competition\n\nin collaboration with the Back Mountain Chamber\n\n\n\n*EVENT IS OPEN TO THE PUBLIC*\n\n\n\nA fun filled Family Day complete with children's activities\, Sunday NFL football and more. All proceeds benefit the Luzerne County Head Start Back Mountain Centers\n\n\n\nSunday\, October 20\, 2019\n\n\n\nFrom: 1:00 PM- 5:00 PM\n\n\n\nHuntsville Golf Club\n\n1334 Market Street\n\nDallas\, PA 18612\n\n\n\n Reservations required in advance\, Please Call: 570-674-6545\n\n$30.00 Adults Inclusive $15.00 Children Inclusive Children 5 and under complimentary\n\n\n\nCash Bar Available. \n\n\n\nEnjoy Complimentary Warm Apple Cider\, Hot Chocolate\, Popcorn\, Soft Drinks.....Hayrides\, Pumpkin Decorating\, Balloon Animals\, Face Painting and Games\n\n\n\nDress the kids in their Halloween Costumes!
X-ALT-DESC;FMTTYPE=text/html:<br />\n<span style="color:#800000\;"><span style="font-size:22px\;"><span style="font-family:comic sans ms\;"><strong>Fall Festival and Wing Sauce Competition</strong></span></span><br />\n<span style="font-size:18px\;">in collaboration with the Back Mountain Chamber<br />\n<br />\n<strong>*EVENT IS OPEN TO THE PUBLIC*</strong></span></span><br />\n<br />\n<span style="color:#800000\;"><span style="font-size:16px\;">A fun filled Family Day complete with children&#39\;s activities\, Sunday NFL football and more. All proceeds benefit the <u>Luzerne County Head Start Back Mountain Centers</u></span><br />\n<br />\nSunday\, October 20\, 2019<br />\n<br />\nFrom: 1:00 PM- 5:00 PM<br />\n<br />\nHuntsville Golf Club<br />\n1334 Market Street<br />\nDallas\, PA 18612<br />\n<br />\n&nbsp\;Reservations required in advance\, Please Call: 570-674-6545<br />\n$30.00 Adults Inclusive $15.00 Children Inclusive Children 5 and under complimentary<br />\n<br />\nCash Bar Available.&nbsp\;<br />\n<br />\nEnjoy Complimentary Warm Apple Cider\, Hot Chocolate\, Popcorn\, Soft Drinks.....Hayrides\, Pumpkin Decorating\, Balloon Animals\, Face Painting and Games<br />\n<br />\nDress the kids in their Halloween Costumes!</span><br />\n&nbsp\;
LOCATION:Huntsville Golf Club 1334 Market Street Dallas\, PA 18612
UID:e.3296.270
SEQUENCE:3
DTSTAMP:20260424T112627Z
URL:https://business.backmountainchamber.org/events/details/fall-festival-at-huntsville-golf-club-270
END:VEVENT

END:VCALENDAR
