BEGIN:VCALENDAR
VERSION:2.0
PRODID:-//ChamberMaster//Event Calendar 2.0//EN
METHOD:PUBLISH
X-PUBLISHED-TTL:P3D
REFRESH-INTERVAL:P3D
CALSCALE:GREGORIAN
BEGIN:VEVENT
DTSTART:20251115T150000Z
DTEND:20251115T173000Z
X-MICROSOFT-CDO-ALLDAYEVENT:FALSE
SUMMARY:Family Nature Walk: What's Under That?
DESCRIPTION:Ever wonder what's living underneath that log? What about that rock? Who or what might we find? This is a family friendly event where children will be encouraged to flip over rocks\, logs\, and other items on ground. Allow your children to dive deeper into their curiosity or fall back into it.
X-ALT-DESC;FMTTYPE=text/html:Ever wonder what&#39\;s living underneath that log? What about that rock? Who or what might we find? This is a family friendly event where children will be encouraged to flip over rocks\, logs\, and other items on ground. Allow your children to dive deeper into their curiosity or fall back into it.
LOCATION:Greater Hazleton Rails to Trails Parking Lot (Butler Preserve)
UID:e.3296.1143
SEQUENCE:3
DTSTAMP:20260423T033448Z
URL:https://business.backmountainchamber.org/events/details/family-nature-walk-what-s-under-that-1143
END:VEVENT

END:VCALENDAR
