BEGIN:VCALENDAR
VERSION:2.0
PRODID:-//ChamberMaster//Event Calendar 2.0//EN
METHOD:PUBLISH
X-PUBLISHED-TTL:P3D
REFRESH-INTERVAL:P3D
CALSCALE:GREGORIAN
BEGIN:VEVENT
DTSTART:20250823T150000Z
DTEND:20250823T160000Z
X-MICROSOFT-CDO-ALLDAYEVENT:FALSE
SUMMARY:Family Nature Walks: "What Lives Here?" - Pond Life
DESCRIPTION:North Branch Land Trust & The Greater Wyoming Valley YMCA are thrilled to announce a FREE monthly nature based educational series of family-friendly walks\, featuring diverse settings and specific topics. Walks will be led by NBLT's Leah Malarkey\, Environmental Education Coordinator. We welcome all ages to participate. Children under the age of 18 must have an adult present.
X-ALT-DESC;FMTTYPE=text/html:<div>\n<div style="text-align:center">\n<p><span style="color:#000000">North Branch Land Trust &amp\; The Greater Wyoming Valley YMCA&nbsp\;are thrilled to announce a <strong>FREE </strong>monthly nature based educational series of family-friendly walks\, featuring diverse settings and specific topics.&nbsp\;Walks will be led by NBLT&rsquo\;s Leah Malarkey\, Environmental Education Coordinator. We welcome all ages to participate. Children under the age of 18 must have an adult present.&nbsp\;</span></p>\n</div>\n</div>\n
LOCATION:Picton Wildlife Sanctuary - 424 Pond Creek Rd\, White Haven\, PA 18661
UID:e.3296.1127
SEQUENCE:3
DTSTAMP:20260423T005348Z
URL:https://business.backmountainchamber.org/events/details/family-nature-walks-what-lives-here-pond-life-1127
END:VEVENT

END:VCALENDAR
