BEGIN:VCALENDAR
VERSION:2.0
PRODID:-//ChamberMaster//Event Calendar 2.0//EN
METHOD:PUBLISH
X-PUBLISHED-TTL:P3D
REFRESH-INTERVAL:P3D
CALSCALE:GREGORIAN
BEGIN:VEVENT
DTSTART:20220615T210000Z
DTEND:20220616T003000Z
X-MICROSOFT-CDO-ALLDAYEVENT:FALSE
SUMMARY:Family Night with the Pauly Friedman Art Gallery
DESCRIPTION:Free movie screening and craft | Recommended ages 7-12. Please mark your calendars. More details to follow at www.misericordia.edu/art Gallery Hours: Monday-Friday\, 10 a.m. to 4 p.m. and by appointment. Admission is always free for all. For more information or to schedule a private tour: misericordia.edu/art | (570) 674-6250 | ArtGallery@misericordia.edu.
X-ALT-DESC;FMTTYPE=text/html:Free movie screening and craft | Recommended ages 7-12. Please mark your calendars. More details to follow at www.misericordia.edu/art Gallery Hours: Monday-Friday\, 10 a.m. to 4 p.m. and by appointment. Admission is always free for all. For more information or to schedule a private tour: misericordia.edu/art | (570) 674-6250 | ArtGallery@misericordia.edu.
LOCATION:Misericordia University\, Insalaco Hall\, Room 218\, 2nd Floor
UID:e.3296.748
SEQUENCE:3
DTSTAMP:20260422T051237Z
URL:https://business.backmountainchamber.org/events/details/family-night-with-the-pauly-friedman-art-gallery-748
END:VEVENT

END:VCALENDAR
