BEGIN:VCALENDAR
VERSION:2.0
PRODID:-//ChamberMaster//Event Calendar 2.0//EN
METHOD:PUBLISH
X-PUBLISHED-TTL:P3D
REFRESH-INTERVAL:P3D
CALSCALE:GREGORIAN
BEGIN:VEVENT
DTSTART:20190207T163000Z
DTEND:20190207T180000Z
X-MICROSOFT-CDO-ALLDAYEVENT:FALSE
SUMMARY:February Chamber Luncheon
DESCRIPTION:Please join the Back Mountain Chamber for our\n\nMonthly Luncheon at\n\n \n\nFire & Ice\, Trucksville\n\nThursday\, February 7th\n\n11:30 am - 1:00 pm\n\n \n\nFeatured Speaker:\n\nJeff Swire\, Co-Founder and President of Patriots Cove\, Noxen\n\nPatriots Cove is committed to protecting the environment and serving veterans\, first responders\, and their caregivers.\n\n \n\nMembers $20 / Non-Members $30\n\nRegister Here
X-ALT-DESC;FMTTYPE=text/html:<div style="text-align: center\;">\n<div align="center" style="color: rgb(93\, 93\, 93)\; font-family: Georgia\, &quot\;Times New Roman&quot\;\, Times\, serif\; font-size: 16px\; background-color: rgb(245\, 165\, 156)\; text-align: center\;"><span style="font-size: 18px\; color: rgb(181\, 7\, 36)\;">Please join the Back Mountain Chamber for our</span></div>\n\n<div align="center" style="color: rgb(93\, 93\, 93)\; font-family: Georgia\, &quot\;Times New Roman&quot\;\, Times\, serif\; font-size: 16px\; background-color: rgb(245\, 165\, 156)\; text-align: center\;"><span style="font-size: 18px\; color: rgb(181\, 7\, 36)\;">Monthly Luncheon at</span></div>\n\n<div align="center" style="color: rgb(93\, 93\, 93)\; font-family: Georgia\, &quot\;Times New Roman&quot\;\, Times\, serif\; font-size: 16px\; background-color: rgb(245\, 165\, 156)\; text-align: center\;">&nbsp\;</div>\n\n<div align="center" style="color: rgb(93\, 93\, 93)\; font-family: Georgia\, &quot\;Times New Roman&quot\;\, Times\, serif\; font-size: 16px\; background-color: rgb(245\, 165\, 156)\; text-align: center\;"><span style="font-size: 18px\; color: rgb(181\, 7\, 36)\; font-weight: bold\;">Fire &amp\; Ice\,&nbsp\;</span><span style="font-size: 18px\; color: rgb(181\, 7\, 36)\;">Trucksville</span></div>\n\n<div align="center" style="color: rgb(93\, 93\, 93)\; font-family: Georgia\, &quot\;Times New Roman&quot\;\, Times\, serif\; font-size: 16px\; background-color: rgb(245\, 165\, 156)\; text-align: center\;"><span style="font-size: 18px\; color: rgb(181\, 7\, 36)\; font-weight: bold\;">Thursday\, February 7th</span></div>\n\n<div align="center" style="color: rgb(93\, 93\, 93)\; font-family: Georgia\, &quot\;Times New Roman&quot\;\, Times\, serif\; font-size: 16px\; background-color: rgb(245\, 165\, 156)\; text-align: center\;"><span style="font-size: 18px\; font-weight: bold\;">11:30 am - 1:00 pm</span></div>\n\n<div align="center" style="color: rgb(93\, 93\, 93)\; font-family: Georgia\, &quot\;Times New Roman&quot\;\, Times\, serif\; font-size: 16px\; background-color: rgb(245\, 165\, 156)\; text-align: center\;">&nbsp\;</div>\n\n<div align="center" style="color: rgb(93\, 93\, 93)\; font-family: Georgia\, &quot\;Times New Roman&quot\;\, Times\, serif\; font-size: 16px\; background-color: rgb(245\, 165\, 156)\; text-align: center\;"><span style="font-size: 18px\; font-weight: bold\; color: rgb(76\, 76\, 76)\;">Featured Speaker:</span></div>\n\n<div align="center" style="color: rgb(93\, 93\, 93)\; font-family: Georgia\, &quot\;Times New Roman&quot\;\, Times\, serif\; font-size: 16px\; background-color: rgb(245\, 165\, 156)\; text-align: center\;"><span style="color: rgb(76\, 76\, 76)\;">Jeff Swire\, Co-Founder and President of Patriots Cove\, Noxen</span></div>\n\n<div align="center" style="color: rgb(93\, 93\, 93)\; font-family: Georgia\, &quot\;Times New Roman&quot\;\, Times\, serif\; font-size: 16px\; background-color: rgb(245\, 165\, 156)\; text-align: center\;"><span style="font-size: 13px\; color: rgb(76\, 76\, 76)\; font-style: italic\;">Patriots Cove is committed to protecting the environment and serving veterans\, first responders\, and their caregivers.</span></div>\n\n<div align="center" style="color: rgb(93\, 93\, 93)\; font-family: Georgia\, &quot\;Times New Roman&quot\;\, Times\, serif\; font-size: 16px\; background-color: rgb(245\, 165\, 156)\; text-align: center\;">&nbsp\;</div>\n\n<div align="center" style="color: rgb(93\, 93\, 93)\; font-family: Georgia\, &quot\;Times New Roman&quot\;\, Times\, serif\; font-size: 16px\; background-color: rgb(245\, 165\, 156)\; text-align: center\;"><span style="font-size: 18px\; color: rgb(76\, 76\, 76)\; font-weight: bold\;">Members $20 / Non-Members $30</span></div>\n\n<div align="center" style="color: rgb(93\, 93\, 93)\; font-family: Georgia\, &quot\;Times New Roman&quot\;\, Times\, serif\; font-size: 16px\; background-color: rgb(245\, 165\, 156)\; text-align: center\;"><a data-saferedirecturl="https://www.google.com/url?q=http://r20.rs6.net/tn.jsp?f%3D001nDRaC-on1tvNOaxGTXLnjSb2LAVO0HXGHzss_8mkO9Ic1ajTl8edS8C_Yy9GGZLy5WQo0FYxwvHWAlshfdkbXxTvBFCnzGQSyWEDyKpPGm9TaEEl27siSSfFgr6I0cuSCRwIkkBtSGRVP3Wyiqg3PlzlbknnwaxzfidDVChThETWY7lyltzW0_IKxZPOEgod8c9DqWqRKMDa-HjOZHiKg2gJaWWze5s4%26c%3D8sci66zbZz-Fs6BZIy-zE_YEpKbmk2Wve3e5aUqz0A95tF5tpbCi5Q%3D%3D%26ch%3D9lk6z9Vvwc6XDgsJr2rQif7Dw-iE40qcsCT_LRVaMdTT0bZMvWf85g%3D%3D&amp\;source=gmail&amp\;ust=1548525068379000&amp\;usg=AFQjCNF8eP2uKhKWTNOLxZNKbEah3T0djA" href="http://r20.rs6.net/tn.jsp?f=001nDRaC-on1tvNOaxGTXLnjSb2LAVO0HXGHzss_8mkO9Ic1ajTl8edS8C_Yy9GGZLy5WQo0FYxwvHWAlshfdkbXxTvBFCnzGQSyWEDyKpPGm9TaEEl27siSSfFgr6I0cuSCRwIkkBtSGRVP3Wyiqg3PlzlbknnwaxzfidDVChThETWY7lyltzW0_IKxZPOEgod8c9DqWqRKMDa-HjOZHiKg2gJaWWze5s4&amp\;c=8sci66zbZz-Fs6BZIy-zE_YEpKbmk2Wve3e5aUqz0A95tF5tpbCi5Q==&amp\;ch=9lk6z9Vvwc6XDgsJr2rQif7Dw-iE40qcsCT_LRVaMdTT0bZMvWf85g==" style="color: rgb(181\, 7\, 36)\; text-decoration-line: none\; font-size: 18px\; font-weight: bold\;" target="_blank">Register Here</a></div>\n</div>\n
LOCATION:Fire and Ice
UID:e.3296.201
SEQUENCE:3
DTSTAMP:20260424T231456Z
URL:https://business.backmountainchamber.org/events/details/february-chamber-luncheon-201
END:VEVENT

END:VCALENDAR
