BEGIN:VCALENDAR
VERSION:2.0
PRODID:-//ChamberMaster//Event Calendar 2.0//EN
METHOD:PUBLISH
X-PUBLISHED-TTL:P3D
REFRESH-INTERVAL:P3D
CALSCALE:GREGORIAN
BEGIN:VEVENT
DTSTART:20230203T170000Z
DTEND:20230331T210000Z
X-MICROSOFT-CDO-ALLDAYEVENT:FALSE
SUMMARY:Flashpoints: Material/Intent/Fused
DESCRIPTION:The Pauly Friedman Art Gallery at Misericordia University will exhibit "Flashpoints: Material/Intent/Fused" from February 3 to March 31\, 2023. With a shared focus on the medium of encaustic\, or pigmented hot wax\, four women artists show how materials can take on new textures and shapes when fused with wax. This exhibition of paintings\, assemblage\, and installation pieces\, is free to the public and appropriate for all ages.
X-ALT-DESC;FMTTYPE=text/html:The Pauly Friedman Art Gallery at Misericordia University will exhibit &ldquo\;Flashpoints: Material/Intent/Fused&rdquo\; from February 3 to March 31\, 2023. With a shared focus on the medium of encaustic\, or pigmented hot wax\, four women artists show how materials can take on new textures and shapes when fused with wax. This exhibition of paintings\, assemblage\, and installation pieces\, is free to the public and appropriate for all ages.
LOCATION:Misericordia University\, 2nd floor Insalaco Hall. 301 Lake St\, Dallas\, PA 18612
UID:e.3296.830
SEQUENCE:3
DTSTAMP:20260421T173626Z
URL:https://business.backmountainchamber.org/events/details/flashpoints-material-intent-fused-02-03-2023-830
END:VEVENT

END:VCALENDAR
