BEGIN:VCALENDAR
VERSION:2.0
PRODID:-//ChamberMaster//Event Calendar 2.0//EN
METHOD:PUBLISH
X-PUBLISHED-TTL:P3D
REFRESH-INTERVAL:P3D
CALSCALE:GREGORIAN
BEGIN:VEVENT
DTSTART:20191020T180000Z
DTEND:20191020T200000Z
X-MICROSOFT-CDO-ALLDAYEVENT:FALSE
SUMMARY:Friends of the Back Mountain Memorial Library Unique Fall Fashion Event
DESCRIPTION:Unique Fall Fashion Event \, 5 Easy Pieces with Designer Candyce Fike. Easy to wear designs in a range of prices. Join us for a lovely afternoon of shopping while you relax with light refreshments and a cash bar.
X-ALT-DESC;FMTTYPE=text/html:Unique Fall Fashion Event \, 5 Easy Pieces with Designer Candyce Fike. Easy to wear designs in a range of prices. Join us for a lovely afternoon of shopping while you relax with light refreshments and a cash bar.
LOCATION:Appletree Terrace at Newberry
UID:e.3296.275
SEQUENCE:3
DTSTAMP:20260424T111222Z
URL:https://business.backmountainchamber.org/events/details/friends-of-the-back-mountain-memorial-library-unique-fall-fashion-event-275
END:VEVENT

END:VCALENDAR
