BEGIN:VCALENDAR
VERSION:2.0
PRODID:-//ChamberMaster//Event Calendar 2.0//EN
METHOD:PUBLISH
X-PUBLISHED-TTL:P3D
REFRESH-INTERVAL:P3D
CALSCALE:GREGORIAN
BEGIN:VEVENT
DTSTART:20250209T160000Z
DTEND:20250209T180000Z
X-MICROSOFT-CDO-ALLDAYEVENT:FALSE
SUMMARY:Great Backyard Bird Count & Birdhouse Craft
DESCRIPTION:Get ready for the Great Backyard Bird Counr with NBLT. Learn basic birdwatching techniques and decorate a birdhouse for your backyard!
X-ALT-DESC;FMTTYPE=text/html:Get ready for the Great Backyard Bird Counr with NBLT. Learn basic birdwatching techniques and decorate a birdhouse for your backyard!
LOCATION:105 Lieutenant Michael Cleary Dr
UID:e.3296.1065
SEQUENCE:3
DTSTAMP:20260422T161451Z
URL:https://business.backmountainchamber.org/events/details/great-backyard-bird-count-birdhouse-craft-1065
END:VEVENT

END:VCALENDAR
