BEGIN:VCALENDAR
VERSION:2.0
PRODID:-//ChamberMaster//Event Calendar 2.0//EN
METHOD:PUBLISH
X-PUBLISHED-TTL:P3D
REFRESH-INTERVAL:P3D
CALSCALE:GREGORIAN
BEGIN:VEVENT
DTSTART:20191030T220000Z
DTEND:20191031T000000Z
X-MICROSOFT-CDO-ALLDAYEVENT:FALSE
SUMMARY:Halloween At The Fair
DESCRIPTION:DATE CHANGE DUE to the Weather\n\n\n\nWednesday October 30\, 2019\n\nLuzerne County Fairgrounds- SR 118 Dallas\, PA \n\nGates open at 6- 8 PM\n\nFREE event for the general public
X-ALT-DESC;FMTTYPE=text/html:<u><span style="font-size:22px\;">DATE CHANGE DUE to the Weather</span></u><br />\n<br />\n<span style="font-size:18px\;"><span style="font-family:comic sans ms\;">Wednesday October 30\, 2019<br />\nLuzerne County Fairgrounds- SR 118 Dallas\, PA&nbsp\;<br />\nGates open at 6- 8 PM<br />\nFREE event for the general public</span></span><br />\n<br />\n&nbsp\;
LOCATION:Luzerne County Fairgrounds SR 118 Dallas\, PA
UID:e.3296.284
SEQUENCE:3
DTSTAMP:20260424T110722Z
URL:https://business.backmountainchamber.org/events/details/halloween-at-the-fair-284
END:VEVENT

END:VCALENDAR
