BEGIN:VCALENDAR
VERSION:2.0
PRODID:-//ChamberMaster//Event Calendar 2.0//EN
METHOD:PUBLISH
X-PUBLISHED-TTL:P3D
REFRESH-INTERVAL:P3D
CALSCALE:GREGORIAN
BEGIN:VEVENT
DTSTART:20191103T150000Z
DTEND:20191103T210000Z
X-MICROSOFT-CDO-ALLDAYEVENT:FALSE
SUMMARY:Homespun Holiday Craft Fair
DESCRIPTION:Homespun Holiday Craft Fair\n\n\n\n                     Arts at Hayfield - Penn State\, Lehman \n\n                               Sunday\, November 3\n\n                                    10 am to 4 pm
X-ALT-DESC;FMTTYPE=text/html:<br />\n<span style="font-size:22px\;"><strong><span style="font-size:26px\;">&nbsp\; &nbsp\; &nbsp\; &nbsp\; &nbsp\; &nbsp\; &nbsp\; &nbsp\; &nbsp\;<br />\n<br />\n&nbsp\; &nbsp\; &nbsp\; &nbsp\; &nbsp\; &nbsp\; &nbsp\; &nbsp\; &nbsp\; &nbsp\;Homespun Holiday Craft Fair</span></strong><br />\n<br />\n&nbsp\; &nbsp\; &nbsp\; &nbsp\; &nbsp\; &nbsp\; &nbsp\; &nbsp\; &nbsp\; &nbsp\; &nbsp\;Arts at Hayfield - Penn State\, Lehman&nbsp\;<br />\n&nbsp\; &nbsp\; &nbsp\; &nbsp\; &nbsp\; &nbsp\; &nbsp\; &nbsp\; &nbsp\; &nbsp\; &nbsp\; &nbsp\; &nbsp\; &nbsp\; &nbsp\; &nbsp\;Sunday\, November 3<br />\n&nbsp\; &nbsp\; &nbsp\; &nbsp\; &nbsp\; &nbsp\; &nbsp\; &nbsp\; &nbsp\; &nbsp\; &nbsp\; &nbsp\; &nbsp\; &nbsp\; &nbsp\; &nbsp\; &nbsp\; &nbsp\; 10 am to 4 pm</span><br />\n&nbsp\;
LOCATION:Arts at Hayfield - Penn State\, Lehman
UID:e.3296.262
SEQUENCE:3
DTSTAMP:20260424T110815Z
URL:https://business.backmountainchamber.org/events/details/homespun-holiday-craft-fair-262
END:VEVENT

END:VCALENDAR
