BEGIN:VCALENDAR
VERSION:2.0
PRODID:-//ChamberMaster//Event Calendar 2.0//EN
METHOD:PUBLISH
X-PUBLISHED-TTL:P3D
REFRESH-INTERVAL:P3D
CALSCALE:GREGORIAN
BEGIN:VEVENT
DTSTART;VALUE=DATE:20230617
DTEND;VALUE=DATE:20230618
TRANSP:TRANSPARENT
X-MICROSOFT-CDO-ALLDAYEVENT:TRUE
SUMMARY:Hometown Heroes 5K
DESCRIPTION:The Hometown Heroes 5K Run & Walk was created to honor our local heroes and to support local First Responder and Veteran Charities. This year's event will be held on June 17\, 2023 @ 9am in support our friends at Camp Freedom and the CASA of Luzerne County Shop with a Cop Program\, so they can continue their mission of helping disabled Veterans\, First Responders and their families.\n\n \n\n\n	Registration ends at 8:30am on 6/17. Onsite same day registrations will be paperless using our express QR code system or the standard online registration.\n	Race Check-in Begins 6/17 @ 7am\n	Start / Finish - Kirby Park\, 160 Market St\, Kingston\, PA 18704\n	Parking will be available inside the park. \n	Running Awards - Overall Male & Female Winner\, Age Groups Top 3 Male & Female\n	Each Pre-Register Participant Will Receive an Event T-Shirt.\n\n\n \n\nAdditional event shirts can be purchased during online registration for $15.\n\n \n\nHome Town Heroes 5K Swag Store\, shop.getsomespirit.com/HH5K23\, will be available until one week after race 6/25/23 @ midnight. Various race apparel will be available such as hoodies\, tees\, long sleeves\, moisture wicking items\, hats\, beanies\, stickers & magnets to name a few. All items will be delivered approx. 2 weeks later.
X-ALT-DESC;FMTTYPE=text/html:<p style="box-sizing: border-box\; margin: 0.3em 0px\; color: rgb(44\, 44\, 44)\; font-family: urw-din\, Arial\, Helvetica\, sans-serif\; font-size: 15px\; text-align: center\;"><span style="font-size:14px\;"><span style="font-family:arial\;"><span style="box-sizing: border-box\; color: rgb(94\, 94\, 94)\;">The Hometown Heroes 5K Run &amp\; Walk was created to honor our local heroes and to support local First Responder and Veteran Charities. This year&#39\;s event will be held on June 17\, 2023 @ 9am in support our friends at Camp Freedom and the CASA of Luzerne County Shop with a Cop Program\, so they can continue their mission of helping disabled Veterans\, First Responders and their families.</span></span></span></p>\n\n<p style="box-sizing: border-box\; margin: 0.3em 0px\; color: rgb(44\, 44\, 44)\; font-family: urw-din\, Arial\, Helvetica\, sans-serif\; font-size: 15px\; text-align: center\;">&nbsp\;</p>\n\n<ul style="box-sizing: border-box\; color: rgb(44\, 44\, 44)\; font-family: urw-din\, Arial\, Helvetica\, sans-serif\; font-size: 15px\; margin-left: 40px\;">\n	<li style="box-sizing: border-box\;"><span style="font-size:14px\;"><span style="font-family:arial\;"><span style="box-sizing: border-box\; color: rgb(94\, 94\, 94)\; text-align: center\;">Registration ends at 8:30am on 6/17. Onsite same day registrations will be paperless using our express QR code system or the standard online registration.</span></span></span></li>\n	<li style="box-sizing: border-box\;"><span style="font-size:14px\;"><span style="font-family:arial\;"><span style="box-sizing: border-box\; color: rgb(94\, 94\, 94)\; text-align: center\;">Race Check-in Begins 6/17 @ 7am</span></span></span></li>\n	<li style="box-sizing: border-box\;"><span style="font-size:14px\;"><span style="font-family:arial\;"><span style="box-sizing: border-box\; color: rgb(94\, 94\, 94)\; text-align: center\;">Start / Finish - Kirby Park\, 160 Market St\, Kingston\, PA 18704</span></span></span></li>\n	<li style="box-sizing: border-box\;"><span style="font-size:14px\;"><span style="font-family:arial\;"><span style="box-sizing: border-box\; color: rgb(94\, 94\, 94)\; text-align: center\;">Parking will be available inside the park.&nbsp\;</span></span></span></li>\n	<li style="box-sizing: border-box\;"><span style="font-size:14px\;"><span style="font-family:arial\;"><span style="box-sizing: border-box\; color: rgb(94\, 94\, 94)\; text-align: center\;">Running Awards - Overall Male &amp\; Female Winner\, Age Groups Top 3 Male &amp\; Female</span></span></span></li>\n	<li style="box-sizing: border-box\;"><span style="font-size:14px\;"><span style="font-family:arial\;"><span style="box-sizing: border-box\; color: rgb(94\, 94\, 94)\; text-align: center\;">Each Pre-Register Participant Will Receive an Event T-Shirt.</span></span></span></li>\n</ul>\n\n<p style="box-sizing: border-box\; margin: 0.3em 0px\; color: rgb(44\, 44\, 44)\; font-family: urw-din\, Arial\, Helvetica\, sans-serif\; font-size: 15px\;">&nbsp\;</p>\n\n<p style="box-sizing: border-box\; margin: 0.3em 0px\; color: rgb(44\, 44\, 44)\; font-family: urw-din\, Arial\, Helvetica\, sans-serif\; font-size: 15px\;"><span style="font-size:14px\;"><span style="font-family:arial\;"><span style="box-sizing: border-box\; color: rgb(94\, 94\, 94)\; text-align: center\;">Additional event shirts can be purchased during online registration for $15.</span></span></span></p>\n\n<p style="box-sizing: border-box\; margin: 0.3em 0px\; color: rgb(44\, 44\, 44)\; font-family: urw-din\, Arial\, Helvetica\, sans-serif\; font-size: 15px\;">&nbsp\;</p>\n\n<p style="box-sizing: border-box\; margin: 0.3em 0px\; color: rgb(44\, 44\, 44)\; font-family: urw-din\, Arial\, Helvetica\, sans-serif\; font-size: 15px\;"><span style="font-size:14px\;"><span style="font-family:arial\;"><span style="box-sizing: border-box\; color: rgb(94\, 94\, 94)\; text-align: center\;">Home Town Heroes 5K Swag Store\,<span style="box-sizing: border-box\;">&nbsp\;</span></span><span style="box-sizing: border-box\;"><a href="http://shop.getsomespirit.com/HH5K22" style="box-sizing: border-box\; text-decoration-line: none\; color: rgb(53\, 79\, 108)\;" target="_blank">shop.getsomespirit.com/HH5K23</a></span><span style="box-sizing: border-box\; color: rgb(34\, 34\, 34)\; background-color: transparent\; font-variant-numeric: normal\; font-variant-east-asian: normal\; vertical-align: baseline\; white-space-collapse: preserve\;">\, </span><span style="box-sizing: border-box\; color: rgb(94\, 94\, 94)\; text-align: center\;">will be available until one week after race 6/25/23 @ midnight. Various race apparel will be available such as&nbsp\;hoodies\, tees\, long sleeves\, moisture wicking items\, hats\, beanies\, stickers &amp\; magnets to name a few. All items will be delivered approx. 2 weeks later.</span></span></span></p>\n
LOCATION:Start / Finish - Kirby Park\, 160 Market St\, Kingston\, PA 18704
UID:e.3296.851
SEQUENCE:3
DTSTAMP:20260421T130954Z
URL:https://business.backmountainchamber.org/events/details/hometown-heroes-5k-851
END:VEVENT

END:VCALENDAR
