BEGIN:VCALENDAR
VERSION:2.0
PRODID:-//ChamberMaster//Event Calendar 2.0//EN
METHOD:PUBLISH
X-PUBLISHED-TTL:P3D
REFRESH-INTERVAL:P3D
CALSCALE:GREGORIAN
BEGIN:VEVENT
DTSTART:20221204T170000Z
DTEND:20221204T200000Z
X-MICROSOFT-CDO-ALLDAYEVENT:FALSE
SUMMARY:Jewelry Shopping Event At Eleventh Element
DESCRIPTION:We are excited to host this local artisan to showcase her line of custom jewelry. Her unique process of hand-twisting and designing each item results in no two pieces being exactly the same. Join us and pick up something for gift giving....or for yourself from this local award-winning artist.
X-ALT-DESC;FMTTYPE=text/html:We are excited to host this local artisan to showcase her line of custom jewelry. Her unique process of hand-twisting and designing each item results in no two pieces being exactly the same. Join us and pick up something for gift giving....or for yourself from this local award-winning artist.
LOCATION:Eleventh Element Relaxation Spa 17 Gateway Shopping Center Edwardsville\, PA 18704
UID:e.3296.814
SEQUENCE:3
DTSTAMP:20260421T203416Z
URL:https://business.backmountainchamber.org/events/details/jewelry-shopping-event-at-eleventh-element-814
END:VEVENT

END:VCALENDAR
