BEGIN:VCALENDAR
VERSION:2.0
PRODID:-//ChamberMaster//Event Calendar 2.0//EN
METHOD:PUBLISH
X-PUBLISHED-TTL:P3D
REFRESH-INTERVAL:P3D
CALSCALE:GREGORIAN
BEGIN:VEVENT
DTSTART;VALUE=DATE:20220729
DTEND;VALUE=DATE:20220730
TRANSP:TRANSPARENT
X-MICROSOFT-CDO-ALLDAYEVENT:TRUE
SUMMARY:Kiwanis Club of Dallas Annual Golf Tournament
DESCRIPTION:The Kiwanis Club of Dallas will hold its 35th Annual Golf Tournament in Memory of Walter Kozemchak on Friday\, July 29\, 2022\, at Irem Temple Country Club\, 70 Ridgway Drive\, Dallas\, PA  18612.  Registration begins at 10:30 A. M.\, followed by a 12 P. M. shotgun start. \n\nThe cost is $90 per person or $360 per team.  Please register as a full team.  The price includes green fees\, cart\, refreshments prior to tee-off\, beverages\, dinner and prizes.  Dinner will be served immediately after the Tournament in the Pavilion at Irem Temple Country Club.  \n\nProceeds from the Tournament benefit year-round area youth programs\, such as the Back Mountain Halloween Party/Parade\, WVC Senior Girls All-Star Softball Game\, and Key Clubs at Dallas and Lake Lehman High Schools\, which include Scholarships to a member from each Club. \n\nFor registration forms\, questions\, and to obtain further information\, please call Harold Stout (570) 574-7888 or Beverly Atherholt (570) 675-7295.
X-ALT-DESC;FMTTYPE=text/html:<span style="font-family:arial\;"><span style="font-size:14px\;"><font style="color: rgb(34\, 34\, 34)\;">The&nbsp\;Kiwanis&nbsp\;Club of Dallas will hold its 35th Annual&nbsp\;Golf&nbsp\;Tournament&nbsp\;in Memory of Walter&nbsp\;<span id="m_-7464246969443361853gmail-m_3591781498340336764gmail-m_3971638029773377766gmail-m_8971718715853125992gmail-m_-5910326219299048899gmail-m_7411218349959510301gmail-m_-3496399041976216413m_1747926256887295364m_812310639097836789gmail-m_8449243325583097047gmail-m_4834130717376748313:2uo.4"><span id="m_-7464246969443361853gmail-m_3591781498340336764gmail-m_3971638029773377766gmail-m_8971718715853125992gmail-m_-5910326219299048899gmail-m_7411218349959510301gmail-m_-3496399041976216413m_1747926256887295364m_812310639097836789gmail-m_8449243325583097047:30q.12"><span id="m_-7464246969443361853gmail-m_3591781498340336764gmail-m_3971638029773377766gmail-m_8971718715853125992gmail-m_-5910326219299048899gmail-m_7411218349959510301gmail-m_-3496399041976216413:37z.4"><span aria-haspopup="true" id="m_-7464246969443361853gmail-m_3591781498340336764gmail-m_3971638029773377766gmail-m_8971718715853125992gmail-m_-5910326219299048899gmail-m_7411218349959510301:1yw.5" role="menuitem"><span aria-haspopup="true" id="m_-7464246969443361853gmail-m_3591781498340336764gmail-m_3971638029773377766gmail-m_8971718715853125992gmail-m_-5910326219299048899:2a8.14" role="menuitem">Kozemchak</span></span></span></span></span>&nbsp\;on Friday\, July 29\, 2022\, at&nbsp\;<span id="m_-7464246969443361853gmail-m_3591781498340336764gmail-m_3971638029773377766gmail-m_8971718715853125992gmail-m_-5910326219299048899gmail-m_7411218349959510301gmail-m_-3496399041976216413m_1747926256887295364m_812310639097836789gmail-m_8449243325583097047gmail-m_4834130717376748313:2uo.5"><span id="m_-7464246969443361853gmail-m_3591781498340336764gmail-m_3971638029773377766gmail-m_8971718715853125992gmail-m_-5910326219299048899gmail-m_7411218349959510301gmail-m_-3496399041976216413m_1747926256887295364m_812310639097836789gmail-m_8449243325583097047:30q.13"><span id="m_-7464246969443361853gmail-m_3591781498340336764gmail-m_3971638029773377766gmail-m_8971718715853125992gmail-m_-5910326219299048899gmail-m_7411218349959510301gmail-m_-3496399041976216413:37z.5"><span aria-haspopup="true" id="m_-7464246969443361853gmail-m_3591781498340336764gmail-m_3971638029773377766gmail-m_8971718715853125992gmail-m_-5910326219299048899gmail-m_7411218349959510301:1yw.6" role="menuitem"><span aria-haspopup="true" id="m_-7464246969443361853gmail-m_3591781498340336764gmail-m_3971638029773377766gmail-m_8971718715853125992gmail-m_-5910326219299048899:2a8.15" role="menuitem">Irem</span></span></span>&nbsp\;T</span></span><span id="m_-7464246969443361853gmail-m_3591781498340336764gmail-m_3971638029773377766gmail-m_8971718715853125992gmail-m_-5910326219299048899gmail-m_7411218349959510301gmail-m_-3496399041976216413:37z.6"><span aria-haspopup="true" id="m_-7464246969443361853gmail-m_3591781498340336764gmail-m_3971638029773377766gmail-m_8971718715853125992gmail-m_-5910326219299048899gmail-m_7411218349959510301:1yw.7" role="menuitem"><span aria-haspopup="true" id="m_-7464246969443361853gmail-m_3591781498340336764gmail-m_3971638029773377766gmail-m_8971718715853125992gmail-m_-5910326219299048899:2a8.16" role="menuitem">emple</span></span></span>&nbsp\;Country Club\, 70&nbsp\;<span aria-haspopup="true" id="m_-7464246969443361853gmail-m_3591781498340336764gmail-m_3971638029773377766gmail-m_8971718715853125992:2wh.2" role="menuitem"><span aria-haspopup="true" id="m_-7464246969443361853gmail-m_3591781498340336764:2en.2" role="menuitem"><span aria-haspopup="true" id="m_-7464246969443361853:32d.1" role="menuitem">Ridgway</span></span></span>&nbsp\;Drive\,</font></span></span><font style="color: rgb(34\, 34\, 34)\;"> </font><span style="font-family:arial\;"><span style="font-size:14px\;"><font style="color: rgb(34\, 34\, 34)\;">Dallas\, PA&nbsp\; 18612.&nbsp\; Registration begins at 10:30 A. M.\, followed by a 12&nbsp\;P. M. shotgun start.&nbsp\;<br />\nThe cost is $90 per person or $360 per team.&nbsp\; Please register as a full team.&nbsp\; The price includes green fees\, cart\, refreshments prior to tee-off\, beverages\, dinner and&nbsp\;<span id="m_-7464246969443361853gmail-m_3591781498340336764gmail-m_3971638029773377766gmail-m_8971718715853125992gmail-m_-5910326219299048899gmail-m_7411218349959510301gmail-m_-3496399041976216413m_1747926256887295364m_812310639097836789gmail-m_8449243325583097047gmail-m_4834130717376748313:2uo.6"><span id="m_-7464246969443361853gmail-m_3591781498340336764gmail-m_3971638029773377766gmail-m_8971718715853125992gmail-m_-5910326219299048899gmail-m_7411218349959510301gmail-m_-3496399041976216413m_1747926256887295364m_812310639097836789gmail-m_8449243325583097047:30q.14"><span id="m_-7464246969443361853gmail-m_3591781498340336764gmail-m_3971638029773377766gmail-m_8971718715853125992gmail-m_-5910326219299048899gmail-m_7411218349959510301gmail-m_-3496399041976216413:37z.7"><span aria-haspopup="true" id="m_-7464246969443361853gmail-m_3591781498340336764gmail-m_3971638029773377766gmail-m_8971718715853125992gmail-m_-5910326219299048899gmail-m_7411218349959510301:1yw.8" role="menuitem"><span aria-haspopup="true" id="m_-7464246969443361853gmail-m_3591781498340336764gmail-m_3971638029773377766gmail-m_8971718715853125992gmail-m_-5910326219299048899:2a8.17" role="menuitem">prizes</span></span></span></span></span>.&nbsp\; Dinner will be served immediately after the&nbsp\;Tournament&nbsp\;in the Pavilion at&nbsp\;<span id="m_-7464246969443361853gmail-m_3591781498340336764gmail-m_3971638029773377766gmail-m_8971718715853125992gmail-m_-5910326219299048899gmail-m_7411218349959510301gmail-m_-3496399041976216413m_1747926256887295364m_812310639097836789gmail-m_8449243325583097047gmail-m_4834130717376748313:2uo.7"><span id="m_-7464246969443361853gmail-m_3591781498340336764gmail-m_3971638029773377766gmail-m_8971718715853125992gmail-m_-5910326219299048899gmail-m_7411218349959510301gmail-m_-3496399041976216413m_1747926256887295364m_812310639097836789gmail-m_8449243325583097047:30q.15"><span id="m_-7464246969443361853gmail-m_3591781498340336764gmail-m_3971638029773377766gmail-m_8971718715853125992gmail-m_-5910326219299048899gmail-m_7411218349959510301gmail-m_-3496399041976216413:37z.8"><span aria-haspopup="true" id="m_-7464246969443361853gmail-m_3591781498340336764gmail-m_3971638029773377766gmail-m_8971718715853125992gmail-m_-5910326219299048899gmail-m_7411218349959510301:1yw.9" role="menuitem"><span aria-haspopup="true" id="m_-7464246969443361853gmail-m_3591781498340336764gmail-m_3971638029773377766gmail-m_8971718715853125992gmail-m_-5910326219299048899:2a8.18" role="menuitem">Irem</span></span></span></span></span>&nbsp\;Temple Country Club.&nbsp\;&nbsp\;</font><br />\n<span comic="" font-size:="" sans="" style="color: rgb(34\, 34\, 34)\; font-family: ">Proceeds from the&nbsp\;Tournament&nbsp\;benefit year-round area youth programs\, such as the&nbsp\;</span><span comic="" font-size:="" sans="" style="color: rgb(34\, 34\, 34)\; font-family: ">Back Mountain Halloween Party/Parade\,&nbsp\;</span><span comic="" font-size:="" sans="" style="color: rgb(34\, 34\, 34)\; font-family: "><span aria-haspopup="true" id="m_-7464246969443361853gmail-m_3591781498340336764gmail-m_3971638029773377766gmail-m_8971718715853125992gmail-m_-5910326219299048899:2a8.19" role="menuitem">WVC</span>&nbsp\;Senior Girls All-Star Softball Game\, and&nbsp\;</span><span comic="" font-size:="" sans="" style="color: rgb(34\, 34\, 34)\; font-family: ">Key Clubs at Dallas and Lake Lehman High Schools\, which include Scholarships to a member from each Club.&nbsp\;</span><br />\n<strong><span comic="" font-size:="" sans="" style="color: rgb(34\, 34\, 34)\; font-family: ">For registration forms\, questions\, and to obtain further information\, please call Harold Stout (570) 574-7888 or Beverly&nbsp\;</span><span comic="" font-size:="" id="m_-7464246969443361853gmail-m_3591781498340336764gmail-m_3971638029773377766gmail-m_8971718715853125992gmail-m_-5910326219299048899gmail-m_7411218349959510301gmail-m_-3496399041976216413m_1747926256887295364m_812310639097836789gmail-m_8449243325583097047gmail-m_4834130717376748313:2uo.8" sans="" style="color: rgb(34\, 34\, 34)\; font-family: ">Atherholt</span><span comic="" font-size:="" sans="" style="color: rgb(34\, 34\, 34)\; font-family: ">&nbsp\;(570) 675-7295.</span></strong></span></span>
LOCATION:Irem Temple Country Club\, 70 Ridgway Drive\, Dallas\, PA 18612
UID:e.3296.759
SEQUENCE:3
DTSTAMP:20260422T034858Z
URL:https://business.backmountainchamber.org/events/details/kiwanis-club-of-dallas-annual-golf-tournament-759
END:VEVENT

END:VCALENDAR
