BEGIN:VCALENDAR
VERSION:2.0
PRODID:-//ChamberMaster//Event Calendar 2.0//EN
METHOD:PUBLISH
X-PUBLISHED-TTL:P3D
REFRESH-INTERVAL:P3D
CALSCALE:GREGORIAN
BEGIN:VEVENT
DTSTART:20221009T120000Z
DTEND:20221009T160000Z
X-MICROSOFT-CDO-ALLDAYEVENT:FALSE
SUMMARY:Kunkle Fire Co. Buffet Breakfast
DESCRIPTION:Breakfast Buffet \n\n\n\nBreakfasts are held the second Sunday of every month at the Kunkle Community Hall. \n\nThe breakfast features pancakes\, ham\, sausage\, bacon\, home fries\, peppers & onions\, scrambled eggs\, French toast sticks\, sausage gravy\, creamed chipped beef\, biscuits\, toasts\, and homemade treats!
X-ALT-DESC;FMTTYPE=text/html:Breakfast Buffet&nbsp\;<br />\n<br />\nBreakfasts are held the second Sunday of every month at the Kunkle Community Hall.&nbsp\;<br />\nThe breakfast features pancakes\, ham\, sausage\, bacon\, home fries\, peppers &amp\; onions\, scrambled eggs\, French toast sticks\, sausage gravy\, creamed chipped beef\, biscuits\, toasts\, and homemade treats!&nbsp\;
LOCATION:Kunkle Fire Co. Social Hall 815 Kunkle Road Dallas\, PA 18612
UID:e.3296.796
SEQUENCE:3
DTSTAMP:20260421T233528Z
URL:https://business.backmountainchamber.org/events/details/kunkle-fire-co-buffet-breakfast-796
END:VEVENT

END:VCALENDAR
