BEGIN:VCALENDAR
VERSION:2.0
PRODID:-//ChamberMaster//Event Calendar 2.0//EN
METHOD:PUBLISH
X-PUBLISHED-TTL:P3D
REFRESH-INTERVAL:P3D
CALSCALE:GREGORIAN
BEGIN:VEVENT
DTSTART:20190710T120000Z
DTEND:20190710T140000Z
X-MICROSOFT-CDO-ALLDAYEVENT:FALSE
SUMMARY:Legislative Breakfast
DESCRIPTION:Legislative Breakfast\n\nLocation: Huntsville Golf Club\, Dallas\n\nTime: 8:00 am\n\nSpeakers: Lisa Baker\, Karen Boback\, Aaron Kaufer\, & John Gower\n\nMembers $25.00 & Non Members $30.00
X-ALT-DESC;FMTTYPE=text/html:<div style="text-align: center\;"><span style="font-family:times new roman\;"><span style="font-size:20px\;">Legislative Breakfast<br />\nLocation: Huntsville Golf Club\, Dallas<br />\nTime: 8:00 am<br />\nSpeakers: Lisa Baker\, Karen Boback\, Aaron Kaufer\, &amp\; John Gower<br />\nMembers $25.00 &amp\; Non Members $30.00</span></span></div>\n
LOCATION:Huntsville Golf Club\, Dallas
UID:e.3296.229
SEQUENCE:3
DTSTAMP:20260424T155402Z
URL:https://business.backmountainchamber.org/events/details/legislative-breakfast-229
END:VEVENT

END:VCALENDAR
