BEGIN:VCALENDAR
VERSION:2.0
PRODID:-//ChamberMaster//Event Calendar 2.0//EN
METHOD:PUBLISH
X-PUBLISHED-TTL:P3D
REFRESH-INTERVAL:P3D
CALSCALE:GREGORIAN
BEGIN:VEVENT
DTSTART:20220421T140000Z
DTEND:20220722T200000Z
X-MICROSOFT-CDO-ALLDAYEVENT:FALSE
SUMMARY:Lost Worlds: Microphotography of Extinct Species
DESCRIPTION:Art meets science in this exhibition of photographs and artifacts from the field of paleontology. Co-curated with Mateusz Wosik\, Ph.D.\, Assistant Professor of Biology at Misericordia University\, this selection of photographs by researchers from all over the world highlights the natural beauty of cellular structures that compose some of the most fascinating creatures to have walked the earth. Please join us on Thursday\, April 21\, 2022 at 5 p.m. for an opening reception of the exhibit\, "Lost Worlds: Microphotography of Extinct Species" and a gallery talk with curators Mateusz Wosik\, Ph.D. and Lalaine Little\, Ph.D.\, Director. RSVP to Alexandra Svab Isaac\, aisaac@misericordia.edu or (570) 674-8422. Gallery Hours: Monday-Friday\, 10 a.m. to 4 p.m. and by appointment. Admission is always free for all. For more information or to schedule a private tour: misericordia.edu/art | (570) 674-6250 | ArtGallery@misericordia.edu.
X-ALT-DESC;FMTTYPE=text/html:Art meets science in this exhibition of photographs and artifacts from the field of paleontology. Co-curated with Mateusz Wosik\, Ph.D.\, Assistant Professor of Biology at Misericordia University\, this selection of photographs by researchers from all over the world highlights the natural beauty of cellular structures that compose some of the most fascinating creatures to have walked the earth. Please join us on Thursday\, April 21\, 2022 at 5 p.m. for an opening reception of the exhibit\, &quot\;Lost Worlds: Microphotography of Extinct Species&quot\; and a gallery talk with curators Mateusz Wosik\, Ph.D. and Lalaine Little\, Ph.D.\, Director. RSVP to Alexandra Svab Isaac\, aisaac@misericordia.edu or (570) 674-8422. Gallery Hours: Monday-Friday\, 10 a.m. to 4 p.m. and by appointment. Admission is always free for all. For more information or to schedule a private tour: misericordia.edu/art | (570) 674-6250 | ArtGallery@misericordia.edu.
LOCATION:Pauly Friedman Art Gallery\, Misericordia University (Insalaco Hall\, 2nd Floor)
UID:e.3296.747
SEQUENCE:3
DTSTAMP:20260422T034751Z
URL:https://business.backmountainchamber.org/events/details/lost-worlds-microphotography-of-extinct-species-747
END:VEVENT

END:VCALENDAR
